BEGIN:VCALENDAR
VERSION:2.0
PRODID:-//Willmar Rifle &amp; Pistol Club - ECPv6.15.20//NONSGML v1.0//EN
CALSCALE:GREGORIAN
METHOD:PUBLISH
X-ORIGINAL-URL:https://willmargunclub.com
X-WR-CALDESC:Events for Willmar Rifle &amp; Pistol Club
REFRESH-INTERVAL;VALUE=DURATION:PT1H
X-Robots-Tag:noindex
X-PUBLISHED-TTL:PT1H
BEGIN:VTIMEZONE
TZID:America/Chicago
BEGIN:DAYLIGHT
TZOFFSETFROM:-0600
TZOFFSETTO:-0500
TZNAME:CDT
DTSTART:20250309T080000
END:DAYLIGHT
BEGIN:STANDARD
TZOFFSETFROM:-0500
TZOFFSETTO:-0600
TZNAME:CST
DTSTART:20251102T070000
END:STANDARD
BEGIN:DAYLIGHT
TZOFFSETFROM:-0600
TZOFFSETTO:-0500
TZNAME:CDT
DTSTART:20260308T080000
END:DAYLIGHT
BEGIN:STANDARD
TZOFFSETFROM:-0500
TZOFFSETTO:-0600
TZNAME:CST
DTSTART:20261101T070000
END:STANDARD
BEGIN:DAYLIGHT
TZOFFSETFROM:-0600
TZOFFSETTO:-0500
TZNAME:CDT
DTSTART:20270314T080000
END:DAYLIGHT
BEGIN:STANDARD
TZOFFSETFROM:-0500
TZOFFSETTO:-0600
TZNAME:CST
DTSTART:20271107T070000
END:STANDARD
END:VTIMEZONE
BEGIN:VEVENT
DTSTART;TZID=America/Chicago:20260903T173000
DTEND;TZID=America/Chicago:20260903T210000
DTSTAMP:20260423T193530
CREATED:20260124T220132Z
LAST-MODIFIED:20260124T220132Z
UID:3568-1788456600-1788469200@willmargunclub.com
SUMMARY:USPSA Shoot
DESCRIPTION:$20/shooter & 1 gun\, a second gun $10
URL:https://willmargunclub.com/event/uspsa-shoot-8/
LOCATION:WRPC Gun Range\, 5631 County Road 9 NE\, Willmar\, MN\, 56201\, United States
CATEGORIES:Shooting Events,USPSA
ORGANIZER;CN="WRPC":MAILTO:willmarrifleandpistolclub@gmail.com
END:VEVENT
BEGIN:VEVENT
DTSTART;TZID=America/Chicago:20260905T120000
DTEND;TZID=America/Chicago:20260905T123000
DTSTAMP:20260423T193530
CREATED:20260122T005327Z
LAST-MODIFIED:20260122T005327Z
UID:3495-1788609600-1788611400@willmargunclub.com
SUMMARY:Range Rules/Safety Class
DESCRIPTION:All members must attend a range rules class within 30 days of membership.
URL:https://willmargunclub.com/event/range-rules-safety-class-26/
LOCATION:WRPC Gun Range\, 5631 County Road 9 NE\, Willmar\, MN\, 56201\, United States
CATEGORIES:Safety Training
ORGANIZER;CN="WRPC":MAILTO:willmarrifleandpistolclub@gmail.com
END:VEVENT
BEGIN:VEVENT
DTSTART;TZID=America/Chicago:20260910T173000
DTEND;TZID=America/Chicago:20260910T210000
DTSTAMP:20260423T193530
CREATED:20260124T215814Z
LAST-MODIFIED:20260124T215814Z
UID:3566-1789061400-1789074000@willmargunclub.com
SUMMARY:Steel Shoot
DESCRIPTION:$15/shooter & 1 gun\, a second gun $5
URL:https://willmargunclub.com/event/steel-shoot-6/
LOCATION:WRPC Gun Range\, 5631 County Road 9 NE\, Willmar\, MN\, 56201\, United States
CATEGORIES:Shooting Events,Steel Shoot
ORGANIZER;CN="WRPC":MAILTO:willmarrifleandpistolclub@gmail.com
END:VEVENT
BEGIN:VEVENT
DTSTART;TZID=America/Chicago:20260911T123000
DTEND;TZID=America/Chicago:20260911T170000
DTSTAMP:20260423T193530
CREATED:20260124T220616Z
LAST-MODIFIED:20260124T220625Z
UID:3572-1789129800-1789146000@willmargunclub.com
SUMMARY:Gun Show Set Up
DESCRIPTION:Volunteers needed.
URL:https://willmargunclub.com/event/gun-show-set-up/
LOCATION:MN
CATEGORIES:Gun Show
ORGANIZER;CN="WRPC":MAILTO:willmarrifleandpistolclub@gmail.com
END:VEVENT
BEGIN:VEVENT
DTSTART;TZID=America/Chicago:20260912T080000
DTEND;TZID=America/Chicago:20260912T170000
DTSTAMP:20260423T193530
CREATED:20260124T220803Z
LAST-MODIFIED:20260125T040708Z
UID:3574-1789200000-1789232400@willmargunclub.com
SUMMARY:Gun Show
DESCRIPTION:
URL:https://willmargunclub.com/event/gun-show/
LOCATION:Civic Center Arena\, 2707 Arena Dr\, Willmar\, MN\, 56201\, United States
CATEGORIES:Gun Show
ORGANIZER;CN="WRPC":MAILTO:willmarrifleandpistolclub@gmail.com
END:VEVENT
BEGIN:VEVENT
DTSTART;TZID=America/Chicago:20260913T090000
DTEND;TZID=America/Chicago:20260913T150000
DTSTAMP:20260423T193530
CREATED:20260124T220900Z
LAST-MODIFIED:20260125T040742Z
UID:3576-1789290000-1789311600@willmargunclub.com
SUMMARY:Gun Show
DESCRIPTION:
URL:https://willmargunclub.com/event/gun-show-2/
LOCATION:Civic Center Arena\, 2707 Arena Dr\, Willmar\, MN\, 56201\, United States
CATEGORIES:Gun Show
ORGANIZER;CN="WRPC":MAILTO:willmarrifleandpistolclub@gmail.com
END:VEVENT
BEGIN:VEVENT
DTSTART;TZID=America/Chicago:20260917T173000
DTEND;TZID=America/Chicago:20260917T210000
DTSTAMP:20260423T193530
CREATED:20260124T220236Z
LAST-MODIFIED:20260124T220236Z
UID:3570-1789666200-1789678800@willmargunclub.com
SUMMARY:USPSA Shoot
DESCRIPTION:$20/shooter & 1 gun\, a second gun $10
URL:https://willmargunclub.com/event/uspsa-shoot-9/
LOCATION:WRPC Gun Range\, 5631 County Road 9 NE\, Willmar\, MN\, 56201\, United States
CATEGORIES:Shooting Events,USPSA
ORGANIZER;CN="WRPC":MAILTO:willmarrifleandpistolclub@gmail.com
END:VEVENT
BEGIN:VEVENT
DTSTART;TZID=America/Chicago:20260921T180000
DTEND;TZID=America/Chicago:20260921T183000
DTSTAMP:20260423T193530
CREATED:20260122T010726Z
LAST-MODIFIED:20260122T010726Z
UID:3515-1790013600-1790015400@willmargunclub.com
SUMMARY:Range Rules/Safety Class
DESCRIPTION:All members must attend a range rules class within 30 days of membership.
URL:https://willmargunclub.com/event/range-rules-safety-class-36/
LOCATION:WRPC Gun Range\, 5631 County Road 9 NE\, Willmar\, MN\, 56201\, United States
CATEGORIES:Safety Training
ORGANIZER;CN="WRPC":MAILTO:willmarrifleandpistolclub@gmail.com
END:VEVENT
END:VCALENDAR