BEGIN:VCALENDAR
VERSION:2.0
PRODID:-//Willmar Rifle &amp; Pistol Club - ECPv6.15.20//NONSGML v1.0//EN
CALSCALE:GREGORIAN
METHOD:PUBLISH
X-ORIGINAL-URL:https://willmargunclub.com
X-WR-CALDESC:Events for Willmar Rifle &amp; Pistol Club
REFRESH-INTERVAL;VALUE=DURATION:PT1H
X-Robots-Tag:noindex
X-PUBLISHED-TTL:PT1H
BEGIN:VTIMEZONE
TZID:America/Chicago
BEGIN:DAYLIGHT
TZOFFSETFROM:-0600
TZOFFSETTO:-0500
TZNAME:CDT
DTSTART:20250309T080000
END:DAYLIGHT
BEGIN:STANDARD
TZOFFSETFROM:-0500
TZOFFSETTO:-0600
TZNAME:CST
DTSTART:20251102T070000
END:STANDARD
BEGIN:DAYLIGHT
TZOFFSETFROM:-0600
TZOFFSETTO:-0500
TZNAME:CDT
DTSTART:20260308T080000
END:DAYLIGHT
BEGIN:STANDARD
TZOFFSETFROM:-0500
TZOFFSETTO:-0600
TZNAME:CST
DTSTART:20261101T070000
END:STANDARD
BEGIN:DAYLIGHT
TZOFFSETFROM:-0600
TZOFFSETTO:-0500
TZNAME:CDT
DTSTART:20270314T080000
END:DAYLIGHT
BEGIN:STANDARD
TZOFFSETFROM:-0500
TZOFFSETTO:-0600
TZNAME:CST
DTSTART:20271107T070000
END:STANDARD
END:VTIMEZONE
BEGIN:VEVENT
DTSTART;TZID=America/Chicago:20260307T073000
DTEND;TZID=America/Chicago:20260307T140000
DTSTAMP:20260423T125535
CREATED:20260120T161810Z
LAST-MODIFIED:20260120T165019Z
UID:3461-1772868600-1772892000@willmargunclub.com
SUMMARY:DNR Youth Class
DESCRIPTION:
URL:https://willmargunclub.com/event/dnr-youth-class-2/
LOCATION:MN
CATEGORIES:DNR Youth
ORGANIZER;CN="WRPC":MAILTO:willmarrifleandpistolclub@gmail.com
END:VEVENT
BEGIN:VEVENT
DTSTART;TZID=America/Chicago:20260307T090000
DTEND;TZID=America/Chicago:20260307T150000
DTSTAMP:20260423T125535
CREATED:20260107T162256Z
LAST-MODIFIED:20260120T165032Z
UID:3463-1772874000-1772895600@willmargunclub.com
SUMMARY:WRPC Field Day DNR Youth Class
DESCRIPTION:
URL:https://willmargunclub.com/event/wrpc-field-day-dnr-youth-class/
LOCATION:MN
CATEGORIES:DNR Youth
ORGANIZER;CN="WRPC":MAILTO:willmarrifleandpistolclub@gmail.com
END:VEVENT
BEGIN:VEVENT
DTSTART;TZID=America/Chicago:20260307T120000
DTEND;TZID=America/Chicago:20260307T123000
DTSTAMP:20260423T125535
CREATED:20260122T004413Z
LAST-MODIFIED:20260122T004413Z
UID:3483-1772884800-1772886600@willmargunclub.com
SUMMARY:Range Rules/Safety Class
DESCRIPTION:All members must attend a range rules class within 30 days of membership.
URL:https://willmargunclub.com/event/range-rules-safety-class-20/
LOCATION:WRPC Gun Range\, 5631 County Road 9 NE\, Willmar\, MN\, 56201\, United States
CATEGORIES:Safety Training
ORGANIZER;CN="WRPC":MAILTO:willmarrifleandpistolclub@gmail.com
END:VEVENT
BEGIN:VEVENT
DTSTART;TZID=America/Chicago:20260314T090000
DTEND;TZID=America/Chicago:20260314T120000
DTSTAMP:20260423T125535
CREATED:20260311T021249Z
LAST-MODIFIED:20260311T021249Z
UID:3607-1773478800-1773489600@willmargunclub.com
SUMMARY:Varmint Shoot
DESCRIPTION:$5/shooter
URL:https://willmargunclub.com/event/varmint-shoot-18/
LOCATION:WRPC Gun Range\, 5631 County Road 9 NE\, Willmar\, MN\, 56201\, United States
CATEGORIES:Shooting Events,Varmint
ORGANIZER;CN="WRPC":MAILTO:willmarrifleandpistolclub@gmail.com
END:VEVENT
BEGIN:VEVENT
DTSTART;TZID=America/Chicago:20260316T180000
DTEND;TZID=America/Chicago:20260316T183000
DTSTAMP:20260423T125535
CREATED:20260122T005833Z
LAST-MODIFIED:20260122T005833Z
UID:3503-1773684000-1773685800@willmargunclub.com
SUMMARY:Range Rules/Safety Class
DESCRIPTION:All members must attend a range rules class within 30 days of membership.
URL:https://willmargunclub.com/event/range-rules-safety-class-30/
LOCATION:WRPC Gun Range\, 5631 County Road 9 NE\, Willmar\, MN\, 56201\, United States
CATEGORIES:Safety Training
ORGANIZER;CN="WRPC":MAILTO:willmarrifleandpistolclub@gmail.com
END:VEVENT
BEGIN:VEVENT
DTSTART;TZID=America/Chicago:20260328T090000
DTEND;TZID=America/Chicago:20260328T110000
DTSTAMP:20260423T125535
CREATED:20260120T162413Z
LAST-MODIFIED:20260120T164946Z
UID:3466-1774688400-1774695600@willmargunclub.com
SUMMARY:Norm A. DNR Youth Class
DESCRIPTION:
URL:https://willmargunclub.com/event/norm-a-dnr-youth-class/
LOCATION:MN
CATEGORIES:DNR Youth
ORGANIZER;CN="WRPC":MAILTO:willmarrifleandpistolclub@gmail.com
END:VEVENT
END:VCALENDAR