BEGIN:VCALENDAR
VERSION:2.0
PRODID:-//Willmar Rifle &amp; Pistol Club - ECPv6.15.20//NONSGML v1.0//EN
CALSCALE:GREGORIAN
METHOD:PUBLISH
X-ORIGINAL-URL:https://willmargunclub.com
X-WR-CALDESC:Events for Willmar Rifle &amp; Pistol Club
REFRESH-INTERVAL;VALUE=DURATION:PT1H
X-Robots-Tag:noindex
X-PUBLISHED-TTL:PT1H
BEGIN:VTIMEZONE
TZID:America/Chicago
BEGIN:DAYLIGHT
TZOFFSETFROM:-0600
TZOFFSETTO:-0500
TZNAME:CDT
DTSTART:20240310T080000
END:DAYLIGHT
BEGIN:STANDARD
TZOFFSETFROM:-0500
TZOFFSETTO:-0600
TZNAME:CST
DTSTART:20241103T070000
END:STANDARD
BEGIN:DAYLIGHT
TZOFFSETFROM:-0600
TZOFFSETTO:-0500
TZNAME:CDT
DTSTART:20250309T080000
END:DAYLIGHT
BEGIN:STANDARD
TZOFFSETFROM:-0500
TZOFFSETTO:-0600
TZNAME:CST
DTSTART:20251102T070000
END:STANDARD
BEGIN:DAYLIGHT
TZOFFSETFROM:-0600
TZOFFSETTO:-0500
TZNAME:CDT
DTSTART:20260308T080000
END:DAYLIGHT
BEGIN:STANDARD
TZOFFSETFROM:-0500
TZOFFSETTO:-0600
TZNAME:CST
DTSTART:20261101T070000
END:STANDARD
END:VTIMEZONE
BEGIN:VEVENT
DTSTART;TZID=America/Chicago:20251101T120000
DTEND;TZID=America/Chicago:20251101T123000
DTSTAMP:20260423T193532
CREATED:20250415T010440Z
LAST-MODIFIED:20250415T010440Z
UID:2905-1761998400-1762000200@willmargunclub.com
SUMMARY:Range Rules/Safety Class
DESCRIPTION:All members must attend a range rules class within 30 days of membership.
URL:https://willmargunclub.com/event/range-rules-safety-class-14/
LOCATION:MN
CATEGORIES:Safety Training
ATTACH;FMTTYPE=image/jpeg:https://willmargunclub.com/wp-content/uploads/shooting-range_5485277-e1744676935968.jpg
END:VEVENT
BEGIN:VEVENT
DTSTART;TZID=America/Chicago:20251101T130000
DTEND;TZID=America/Chicago:20251101T150000
DTSTAMP:20260423T193532
CREATED:20250315T204520Z
LAST-MODIFIED:20250315T204520Z
UID:2658-1762002000-1762009200@willmargunclub.com
SUMMARY:Varmint Shoot
DESCRIPTION:Varmint Shoot\n$5/shooter
URL:https://willmargunclub.com/event/varmint-shoot-7/
LOCATION:MN
CATEGORIES:Shooting Events,Varmint
ATTACH;FMTTYPE=image/webp:https://willmargunclub.com/wp-content/uploads/wrpc-6877.webp
END:VEVENT
BEGIN:VEVENT
DTSTART;TZID=America/Chicago:20251117T170000
DTEND;TZID=America/Chicago:20251117T180000
DTSTAMP:20260423T193532
CREATED:20250306T190939Z
LAST-MODIFIED:20250306T190939Z
UID:1604-1763398800-1763402400@willmargunclub.com
SUMMARY:Board Meeting
DESCRIPTION:
URL:https://willmargunclub.com/event/board-meeting-10/
LOCATION:MN
CATEGORIES:Board
ATTACH;FMTTYPE=image/jpeg:https://willmargunclub.com/wp-content/uploads/outdoor-gun-range_6668983-e1744679611341.jpeg
END:VEVENT
BEGIN:VEVENT
DTSTART;TZID=America/Chicago:20251117T180000
DTEND;TZID=America/Chicago:20251117T183000
DTSTAMP:20260423T193532
CREATED:20250415T010728Z
LAST-MODIFIED:20250415T010728Z
UID:2907-1763402400-1763404200@willmargunclub.com
SUMMARY:Range Rules/Safety Class
DESCRIPTION:All members must attend a range rules class within 30 days of membership.
URL:https://willmargunclub.com/event/range-rules-safety-class-15/
LOCATION:MN
CATEGORIES:Safety Training
ATTACH;FMTTYPE=image/jpeg:https://willmargunclub.com/wp-content/uploads/shooting-range_5485277-e1744676935968.jpg
END:VEVENT
END:VCALENDAR