BEGIN:VCALENDAR
VERSION:2.0
PRODID:-//Willmar Rifle &amp; Pistol Club - ECPv6.15.20//NONSGML v1.0//EN
CALSCALE:GREGORIAN
METHOD:PUBLISH
X-WR-CALNAME:Willmar Rifle &amp; Pistol Club
X-ORIGINAL-URL:https://willmargunclub.com
X-WR-CALDESC:Events for Willmar Rifle &amp; Pistol Club
REFRESH-INTERVAL;VALUE=DURATION:PT1H
X-Robots-Tag:noindex
X-PUBLISHED-TTL:PT1H
BEGIN:VTIMEZONE
TZID:America/Chicago
BEGIN:DAYLIGHT
TZOFFSETFROM:-0600
TZOFFSETTO:-0500
TZNAME:CDT
DTSTART:20240310T080000
END:DAYLIGHT
BEGIN:STANDARD
TZOFFSETFROM:-0500
TZOFFSETTO:-0600
TZNAME:CST
DTSTART:20241103T070000
END:STANDARD
BEGIN:DAYLIGHT
TZOFFSETFROM:-0600
TZOFFSETTO:-0500
TZNAME:CDT
DTSTART:20250309T080000
END:DAYLIGHT
BEGIN:STANDARD
TZOFFSETFROM:-0500
TZOFFSETTO:-0600
TZNAME:CST
DTSTART:20251102T070000
END:STANDARD
BEGIN:DAYLIGHT
TZOFFSETFROM:-0600
TZOFFSETTO:-0500
TZNAME:CDT
DTSTART:20260308T080000
END:DAYLIGHT
BEGIN:STANDARD
TZOFFSETFROM:-0500
TZOFFSETTO:-0600
TZNAME:CST
DTSTART:20261101T070000
END:STANDARD
BEGIN:DAYLIGHT
TZOFFSETFROM:-0600
TZOFFSETTO:-0500
TZNAME:CDT
DTSTART:20270314T080000
END:DAYLIGHT
BEGIN:STANDARD
TZOFFSETFROM:-0500
TZOFFSETTO:-0600
TZNAME:CST
DTSTART:20271107T070000
END:STANDARD
END:VTIMEZONE
BEGIN:VEVENT
DTSTART;TZID=America/Chicago:20260119T180000
DTEND;TZID=America/Chicago:20260119T210000
DTSTAMP:20260423T180554
CREATED:20260106T142914Z
LAST-MODIFIED:20260119T235258Z
UID:3444-1768845600-1768856400@willmargunclub.com
SUMMARY:Willmar Rifle Pistol Club Annual Meeting
DESCRIPTION:Registration begins at 6:15.  \nPlease be sure the form is completed ahead of time to speed up the registration process. \nYou can use your 2025 card for the 2026 year as long as you renew at the annual meeting or earlier. \nThe membership cost for 2026 will be $100.\nPlease make checks payable to WRPC. You can also renew at Runnings in Willmar as well as the following vendors in Spicer: Laib’s\, Mel’s and Code 4. \nThe board is also working towards establishing an electronic membership process for implementation later this year. \nAfter January 19 we will be deactivating all 2025 cards that have not been renewed so then you will have to go to the vendors to turn in the old one and get a new card. \nYou can take the range rules class at the annual meeting\, or we will be holding the classes at the range the first Saturday of each month at noon and the third Monday of each month at 6 p.m. from February through November.
URL:https://willmargunclub.com/event/willmar-rifle-pistol-club-annual-meeting/
LOCATION:Willmar Convention Center\, 240 23rd St SE\, Willmar\, MN\, 56201\, United States
ORGANIZER;CN="WRPC":MAILTO:willmarrifleandpistolclub@gmail.com
END:VEVENT
BEGIN:VEVENT
DTSTART;TZID=America/Chicago:20251215T180000
DTEND;TZID=America/Chicago:20251215T183000
DTSTAMP:20260423T180554
CREATED:20250415T011033Z
LAST-MODIFIED:20250415T011033Z
UID:2911-1765821600-1765823400@willmargunclub.com
SUMMARY:Range Rules/Safety Class
DESCRIPTION:All members must attend a range rules class within 30 days of membership.
URL:https://willmargunclub.com/event/range-rules-safety-class-17/
LOCATION:MN
CATEGORIES:Safety Training
ATTACH;FMTTYPE=image/jpeg:https://willmargunclub.com/wp-content/uploads/shooting-range_5485277-e1744676935968.jpg
END:VEVENT
BEGIN:VEVENT
DTSTART;TZID=America/Chicago:20251215T170000
DTEND;TZID=America/Chicago:20251215T180000
DTSTAMP:20260423T180554
CREATED:20250306T191040Z
LAST-MODIFIED:20250306T191040Z
UID:1606-1765818000-1765821600@willmargunclub.com
SUMMARY:Board Meeting
DESCRIPTION:
URL:https://willmargunclub.com/event/board-meeting-11/
LOCATION:MN
CATEGORIES:Board
ATTACH;FMTTYPE=image/jpeg:https://willmargunclub.com/wp-content/uploads/outdoor-gun-range_6668983-e1744679611341.jpeg
END:VEVENT
BEGIN:VEVENT
DTSTART;TZID=America/Chicago:20251206T130000
DTEND;TZID=America/Chicago:20251206T150000
DTSTAMP:20260423T180554
CREATED:20250315T204639Z
LAST-MODIFIED:20250315T204639Z
UID:2660-1765026000-1765033200@willmargunclub.com
SUMMARY:Varmint Shoot
DESCRIPTION:Varmint Shoot\n$5/shooter
URL:https://willmargunclub.com/event/varmint-shoot-8/
LOCATION:MN
CATEGORIES:Shooting Events,Varmint
ATTACH;FMTTYPE=image/webp:https://willmargunclub.com/wp-content/uploads/wrpc-6877.webp
END:VEVENT
BEGIN:VEVENT
DTSTART;TZID=America/Chicago:20251206T120000
DTEND;TZID=America/Chicago:20251206T123000
DTSTAMP:20260423T180554
CREATED:20250415T010905Z
LAST-MODIFIED:20250415T010905Z
UID:2909-1765022400-1765024200@willmargunclub.com
SUMMARY:Range Rules/Safety Class
DESCRIPTION:All members must attend a range rules class within 30 days of membership.
URL:https://willmargunclub.com/event/range-rules-safety-class-16/
LOCATION:MN
CATEGORIES:Safety Training
ATTACH;FMTTYPE=image/jpeg:https://willmargunclub.com/wp-content/uploads/shooting-range_5485277-e1744676935968.jpg
END:VEVENT
BEGIN:VEVENT
DTSTART;TZID=America/Chicago:20251117T180000
DTEND;TZID=America/Chicago:20251117T183000
DTSTAMP:20260423T180554
CREATED:20250415T010728Z
LAST-MODIFIED:20250415T010728Z
UID:2907-1763402400-1763404200@willmargunclub.com
SUMMARY:Range Rules/Safety Class
DESCRIPTION:All members must attend a range rules class within 30 days of membership.
URL:https://willmargunclub.com/event/range-rules-safety-class-15/
LOCATION:MN
CATEGORIES:Safety Training
ATTACH;FMTTYPE=image/jpeg:https://willmargunclub.com/wp-content/uploads/shooting-range_5485277-e1744676935968.jpg
END:VEVENT
BEGIN:VEVENT
DTSTART;TZID=America/Chicago:20251117T170000
DTEND;TZID=America/Chicago:20251117T180000
DTSTAMP:20260423T180554
CREATED:20250306T190939Z
LAST-MODIFIED:20250306T190939Z
UID:1604-1763398800-1763402400@willmargunclub.com
SUMMARY:Board Meeting
DESCRIPTION:
URL:https://willmargunclub.com/event/board-meeting-10/
LOCATION:MN
CATEGORIES:Board
ATTACH;FMTTYPE=image/jpeg:https://willmargunclub.com/wp-content/uploads/outdoor-gun-range_6668983-e1744679611341.jpeg
END:VEVENT
BEGIN:VEVENT
DTSTART;TZID=America/Chicago:20251101T130000
DTEND;TZID=America/Chicago:20251101T150000
DTSTAMP:20260423T180554
CREATED:20250315T204520Z
LAST-MODIFIED:20250315T204520Z
UID:2658-1762002000-1762009200@willmargunclub.com
SUMMARY:Varmint Shoot
DESCRIPTION:Varmint Shoot\n$5/shooter
URL:https://willmargunclub.com/event/varmint-shoot-7/
LOCATION:MN
CATEGORIES:Shooting Events,Varmint
ATTACH;FMTTYPE=image/webp:https://willmargunclub.com/wp-content/uploads/wrpc-6877.webp
END:VEVENT
BEGIN:VEVENT
DTSTART;TZID=America/Chicago:20251101T120000
DTEND;TZID=America/Chicago:20251101T123000
DTSTAMP:20260423T180554
CREATED:20250415T010440Z
LAST-MODIFIED:20250415T010440Z
UID:2905-1761998400-1762000200@willmargunclub.com
SUMMARY:Range Rules/Safety Class
DESCRIPTION:All members must attend a range rules class within 30 days of membership.
URL:https://willmargunclub.com/event/range-rules-safety-class-14/
LOCATION:MN
CATEGORIES:Safety Training
ATTACH;FMTTYPE=image/jpeg:https://willmargunclub.com/wp-content/uploads/shooting-range_5485277-e1744676935968.jpg
END:VEVENT
BEGIN:VEVENT
DTSTART;TZID=America/Chicago:20251020T180000
DTEND;TZID=America/Chicago:20251020T183000
DTSTAMP:20260423T180554
CREATED:20250415T010241Z
LAST-MODIFIED:20250415T010241Z
UID:2903-1760983200-1760985000@willmargunclub.com
SUMMARY:Range Rules/Safety Class
DESCRIPTION:All members must attend a range rules class within 30 days of membership.
URL:https://willmargunclub.com/event/range-rules-safety-class-13/
LOCATION:MN
CATEGORIES:Safety Training
ATTACH;FMTTYPE=image/jpeg:https://willmargunclub.com/wp-content/uploads/shooting-range_5485277-e1744676935968.jpg
END:VEVENT
BEGIN:VEVENT
DTSTART;TZID=America/Chicago:20251020T170000
DTEND;TZID=America/Chicago:20251020T180000
DTSTAMP:20260423T180554
CREATED:20250306T190830Z
LAST-MODIFIED:20250306T190830Z
UID:1602-1760979600-1760983200@willmargunclub.com
SUMMARY:Board Meeting
DESCRIPTION:
URL:https://willmargunclub.com/event/board-meeting-9/
LOCATION:MN
CATEGORIES:Board
ATTACH;FMTTYPE=image/jpeg:https://willmargunclub.com/wp-content/uploads/outdoor-gun-range_6668983-e1744679611341.jpeg
END:VEVENT
BEGIN:VEVENT
DTSTART;TZID=America/Chicago:20251004T120000
DTEND;TZID=America/Chicago:20251004T123000
DTSTAMP:20260423T180554
CREATED:20250415T010018Z
LAST-MODIFIED:20250415T010018Z
UID:2901-1759579200-1759581000@willmargunclub.com
SUMMARY:Range Rules/Safety Class
DESCRIPTION:All members must attend a range rules class within 30 days of membership.
URL:https://willmargunclub.com/event/range-rules-safety-class-12/
LOCATION:MN
CATEGORIES:Safety Training
ATTACH;FMTTYPE=image/jpeg:https://willmargunclub.com/wp-content/uploads/shooting-range_5485277-e1744676935968.jpg
END:VEVENT
BEGIN:VEVENT
DTSTART;TZID=America/Chicago:20251004T090000
DTEND;TZID=America/Chicago:20251004T120000
DTSTAMP:20260423T180554
CREATED:20250315T204357Z
LAST-MODIFIED:20250315T204357Z
UID:2656-1759568400-1759579200@willmargunclub.com
SUMMARY:Varmint Shoot
DESCRIPTION:Varmint Shoot\n$5/shooter
URL:https://willmargunclub.com/event/varmint-shoot-6/
LOCATION:MN
CATEGORIES:Shooting Events,Varmint
ATTACH;FMTTYPE=image/webp:https://willmargunclub.com/wp-content/uploads/wrpc-6877.webp
END:VEVENT
BEGIN:VEVENT
DTSTART;TZID=America/Chicago:20250918T080000
DTEND;TZID=America/Chicago:20250918T170000
DTSTAMP:20260423T180554
CREATED:20250308T041825Z
LAST-MODIFIED:20250308T041825Z
UID:2047-1758182400-1758214800@willmargunclub.com
SUMMARY:USPSA Shoot
DESCRIPTION:USPSA Match\n$20/shooter & 1 gun\, a second gun $10
URL:https://willmargunclub.com/event/uspsa-match-9/
LOCATION:MN
CATEGORIES:Shooting Events,USPSA
ATTACH;FMTTYPE=image/webp:https://willmargunclub.com/wp-content/uploads/wrpc-2126-e1741398349321.webp
END:VEVENT
BEGIN:VEVENT
DTSTART;TZID=America/Chicago:20250915T180000
DTEND;TZID=America/Chicago:20250915T183000
DTSTAMP:20260423T180554
CREATED:20250415T005923Z
LAST-MODIFIED:20250415T005923Z
UID:2899-1757959200-1757961000@willmargunclub.com
SUMMARY:Range Rules/Safety Class
DESCRIPTION:All members must attend a range rules class within 30 days of membership.
URL:https://willmargunclub.com/event/range-rules-safety-class-11/
LOCATION:MN
CATEGORIES:Safety Training
ATTACH;FMTTYPE=image/jpeg:https://willmargunclub.com/wp-content/uploads/shooting-range_5485277-e1744676935968.jpg
END:VEVENT
BEGIN:VEVENT
DTSTART;TZID=America/Chicago:20250915T170000
DTEND;TZID=America/Chicago:20250915T180000
DTSTAMP:20260423T180554
CREATED:20250306T190705Z
LAST-MODIFIED:20250306T190705Z
UID:1598-1757955600-1757959200@willmargunclub.com
SUMMARY:Board Meeting
DESCRIPTION:
URL:https://willmargunclub.com/event/board-meeting-7/
LOCATION:MN
CATEGORIES:Board
ATTACH;FMTTYPE=image/jpeg:https://willmargunclub.com/wp-content/uploads/outdoor-gun-range_6668983-e1744679611341.jpeg
END:VEVENT
BEGIN:VEVENT
DTSTART;TZID=America/Chicago:20250914T090000
DTEND;TZID=America/Chicago:20250914T150000
DTSTAMP:20260423T180554
CREATED:20250315T210025Z
LAST-MODIFIED:20250422T191925Z
UID:2666-1757840400-1757862000@willmargunclub.com
SUMMARY:Willmar Gun Show
DESCRIPTION:Willmar Gun Show\nAdmission: $10.00
URL:https://willmargunclub.com/event/willmar-gun-show-2/
LOCATION:MN
CATEGORIES:Gun Show
END:VEVENT
BEGIN:VEVENT
DTSTART;TZID=America/Chicago:20250913T080000
DTEND;TZID=America/Chicago:20250913T170000
DTSTAMP:20260423T180554
CREATED:20250315T205844Z
LAST-MODIFIED:20250422T191815Z
UID:2664-1757750400-1757782800@willmargunclub.com
SUMMARY:Willmar Gun Show
DESCRIPTION:Willmar Gun Show\nAdmission: $10.00
URL:https://willmargunclub.com/event/willmar-gun-show/
LOCATION:MN
CATEGORIES:Gun Show
END:VEVENT
BEGIN:VEVENT
DTSTART;TZID=America/Chicago:20250911T173000
DTEND;TZID=America/Chicago:20250911T213000
DTSTAMP:20260423T180554
CREATED:20250315T021046Z
LAST-MODIFIED:20250315T021046Z
UID:2550-1757611800-1757626200@willmargunclub.com
SUMMARY:Steel Shoot
DESCRIPTION:Steel Shoot\n$15/shooter & 1 gun\, a second gun $5
URL:https://willmargunclub.com/event/steel-challenge-4/
LOCATION:MN
CATEGORIES:Shooting Events,Steel Shoot
ATTACH;FMTTYPE=image/webp:https://willmargunclub.com/wp-content/uploads/wrpc-958742.webp
END:VEVENT
BEGIN:VEVENT
DTSTART;TZID=America/Chicago:20250906T120000
DTEND;TZID=America/Chicago:20250906T123000
DTSTAMP:20260423T180554
CREATED:20250415T005735Z
LAST-MODIFIED:20250415T005735Z
UID:2897-1757160000-1757161800@willmargunclub.com
SUMMARY:Range Rules/Safety Class
DESCRIPTION:All members must attend a range rules class within 30 days of membership.
URL:https://willmargunclub.com/event/range-rules-safety-class-10/
LOCATION:MN
CATEGORIES:Safety Training
ATTACH;FMTTYPE=image/jpeg:https://willmargunclub.com/wp-content/uploads/shooting-range_5485277-e1744676935968.jpg
END:VEVENT
BEGIN:VEVENT
DTSTART;TZID=America/Chicago:20250904T173000
DTEND;TZID=America/Chicago:20250904T213000
DTSTAMP:20260423T180554
CREATED:20250308T041553Z
LAST-MODIFIED:20250308T041553Z
UID:2043-1757007000-1757021400@willmargunclub.com
SUMMARY:USPSA Shoot
DESCRIPTION:USPSA Match\n$20/shooter & 1 gun\, a second gun $10
URL:https://willmargunclub.com/event/uspsa-match-8/
LOCATION:MN
CATEGORIES:Shooting Events,USPSA
ATTACH;FMTTYPE=image/webp:https://willmargunclub.com/wp-content/uploads/wrpc-2126-e1741398349321.webp
END:VEVENT
BEGIN:VEVENT
DTSTART;TZID=America/Chicago:20250830T130000
DTEND;TZID=America/Chicago:20250830T150000
DTSTAMP:20260423T180554
CREATED:20250315T023713Z
LAST-MODIFIED:20250807T020252Z
UID:2561-1756558800-1756566000@willmargunclub.com
SUMMARY:M1 Garand Shoot
DESCRIPTION:$25/shooter includes rifle and 53 rounds of ammo
URL:https://willmargunclub.com/event/m1-garand-shoot-3/
LOCATION:WRPC Gun Range\, 5631 County Road 9 NE\, Willmar\, MN\, 56201\, United States
CATEGORIES:M1 Garand,Shooting Events
ATTACH;FMTTYPE=image/jpeg:https://willmargunclub.com/wp-content/uploads/M1_Garand_competition.jpg
ORGANIZER;CN="WRPC":MAILTO:willmarrifleandpistolclub@gmail.com
END:VEVENT
BEGIN:VEVENT
DTSTART;TZID=America/Chicago:20250828T173000
DTEND;TZID=America/Chicago:20250828T210000
DTSTAMP:20260423T180554
CREATED:20250315T203749Z
LAST-MODIFIED:20250315T203749Z
UID:2652-1756402200-1756414800@willmargunclub.com
SUMMARY:Varmint Shoot
DESCRIPTION:Varmint Shoot\n$5/shooter
URL:https://willmargunclub.com/event/varmint-shoot-5/
LOCATION:MN
CATEGORIES:Shooting Events,Varmint
ATTACH;FMTTYPE=image/webp:https://willmargunclub.com/wp-content/uploads/wrpc-6877.webp
END:VEVENT
BEGIN:VEVENT
DTSTART;TZID=America/Chicago:20250821T173000
DTEND;TZID=America/Chicago:20250821T213000
DTSTAMP:20260423T180554
CREATED:20250308T041311Z
LAST-MODIFIED:20250308T041311Z
UID:2039-1755797400-1755811800@willmargunclub.com
SUMMARY:USPSA Shoot
DESCRIPTION:USPSA Match\n$20/shooter & 1 gun\, a second gun $10
URL:https://willmargunclub.com/event/uspsa-match-7/
LOCATION:MN
CATEGORIES:Shooting Events,USPSA
ATTACH;FMTTYPE=image/webp:https://willmargunclub.com/wp-content/uploads/wrpc-2126-e1741398349321.webp
END:VEVENT
BEGIN:VEVENT
DTSTART;TZID=America/Chicago:20250818T180000
DTEND;TZID=America/Chicago:20250818T183000
DTSTAMP:20260423T180554
CREATED:20250415T005448Z
LAST-MODIFIED:20250415T005448Z
UID:2895-1755540000-1755541800@willmargunclub.com
SUMMARY:Range Rules/Safety Class
DESCRIPTION:All members must attend a range rules class within 30 days of membership.
URL:https://willmargunclub.com/event/range-rules-safety-class-9/
LOCATION:MN
CATEGORIES:Safety Training
ATTACH;FMTTYPE=image/jpeg:https://willmargunclub.com/wp-content/uploads/shooting-range_5485277-e1744676935968.jpg
END:VEVENT
BEGIN:VEVENT
DTSTART;TZID=America/Chicago:20250818T170000
DTEND;TZID=America/Chicago:20250818T180000
DTSTAMP:20260423T180554
CREATED:20250306T190500Z
LAST-MODIFIED:20250306T190500Z
UID:1596-1755536400-1755540000@willmargunclub.com
SUMMARY:Board Meeting
DESCRIPTION:
URL:https://willmargunclub.com/event/board-meeting-6/
LOCATION:MN
CATEGORIES:Board
ATTACH;FMTTYPE=image/jpeg:https://willmargunclub.com/wp-content/uploads/outdoor-gun-range_6668983-e1744679611341.jpeg
END:VEVENT
BEGIN:VEVENT
DTSTART;TZID=America/Chicago:20250816T073000
DTEND;TZID=America/Chicago:20250816T140000
DTSTAMP:20260423T180554
CREATED:20250315T204027Z
LAST-MODIFIED:20250515T192649Z
UID:2654-1755329400-1755352800@willmargunclub.com
SUMMARY:DNR Youth Hunter Field Day Class
DESCRIPTION:DNR Youth Hunter Field Day Class
URL:https://willmargunclub.com/event/dnr-youth-hunter-field-day-class/
LOCATION:MN
CATEGORIES:DNR Youth
ATTACH;FMTTYPE=image/webp:https://willmargunclub.com/wp-content/uploads/wrpc-67.webp
END:VEVENT
BEGIN:VEVENT
DTSTART;TZID=America/Chicago:20250814T173000
DTEND;TZID=America/Chicago:20250814T210000
DTSTAMP:20260423T180554
CREATED:20250315T020633Z
LAST-MODIFIED:20250315T020633Z
UID:2547-1755192600-1755205200@willmargunclub.com
SUMMARY:Steel Shoot
DESCRIPTION:Steel Shoot\n$15/shooter & 1 gun\, a second gun $5
URL:https://willmargunclub.com/event/steel-challenge-3/
LOCATION:MN
CATEGORIES:Shooting Events,Steel Shoot
ATTACH;FMTTYPE=image/webp:https://willmargunclub.com/wp-content/uploads/wrpc-958742.webp
END:VEVENT
BEGIN:VEVENT
DTSTART;TZID=America/Chicago:20250809T090000
DTEND;TZID=America/Chicago:20250809T120000
DTSTAMP:20260423T180554
CREATED:20250315T210518Z
LAST-MODIFIED:20250809T164009Z
UID:2679-1754730000-1754740800@willmargunclub.com
SUMMARY:USPSA Points Match
DESCRIPTION:USPSA Points Match\nUSPSA matches combine speed\, accuracy\, and power in a fast-paced and engaging format. \n$20/shooter & 1 gun\, a second gun $10
URL:https://willmargunclub.com/event/uspsa-points-match/
LOCATION:MN
CATEGORIES:Shooting Events,USPSA
ATTACH;FMTTYPE=image/webp:https://willmargunclub.com/wp-content/uploads/wrpc-2126-e1741398349321.webp
END:VEVENT
BEGIN:VEVENT
DTSTART;TZID=America/Chicago:20250807T173000
DTEND;TZID=America/Chicago:20250807T213000
DTSTAMP:20260423T180554
CREATED:20250308T041116Z
LAST-MODIFIED:20250308T041116Z
UID:2036-1754587800-1754602200@willmargunclub.com
SUMMARY:USPSA Shoot
DESCRIPTION:USPSA Match\n$20/shooter & 1 gun\, a second gun $10
URL:https://willmargunclub.com/event/uspsa-match-6/
LOCATION:MN
CATEGORIES:Shooting Events,USPSA
ATTACH;FMTTYPE=image/webp:https://willmargunclub.com/wp-content/uploads/wrpc-2126-e1741398349321.webp
END:VEVENT
END:VCALENDAR