BEGIN:VCALENDAR
VERSION:2.0
PRODID:-//Willmar Rifle &amp; Pistol Club - ECPv6.15.20//NONSGML v1.0//EN
CALSCALE:GREGORIAN
METHOD:PUBLISH
X-ORIGINAL-URL:https://willmargunclub.com
X-WR-CALDESC:Events for Willmar Rifle &amp; Pistol Club
REFRESH-INTERVAL;VALUE=DURATION:PT1H
X-Robots-Tag:noindex
X-PUBLISHED-TTL:PT1H
BEGIN:VTIMEZONE
TZID:America/Chicago
BEGIN:DAYLIGHT
TZOFFSETFROM:-0600
TZOFFSETTO:-0500
TZNAME:CDT
DTSTART:20250309T080000
END:DAYLIGHT
BEGIN:STANDARD
TZOFFSETFROM:-0500
TZOFFSETTO:-0600
TZNAME:CST
DTSTART:20251102T070000
END:STANDARD
BEGIN:DAYLIGHT
TZOFFSETFROM:-0600
TZOFFSETTO:-0500
TZNAME:CDT
DTSTART:20260308T080000
END:DAYLIGHT
BEGIN:STANDARD
TZOFFSETFROM:-0500
TZOFFSETTO:-0600
TZNAME:CST
DTSTART:20261101T070000
END:STANDARD
BEGIN:DAYLIGHT
TZOFFSETFROM:-0600
TZOFFSETTO:-0500
TZNAME:CDT
DTSTART:20270314T080000
END:DAYLIGHT
BEGIN:STANDARD
TZOFFSETFROM:-0500
TZOFFSETTO:-0600
TZNAME:CST
DTSTART:20271107T070000
END:STANDARD
END:VTIMEZONE
BEGIN:VEVENT
DTSTART;TZID=America/Chicago:20260420T180000
DTEND;TZID=America/Chicago:20260420T183000
DTSTAMP:20260423T180433
CREATED:20260122T010015Z
LAST-MODIFIED:20260122T010039Z
UID:3505-1776708000-1776709800@willmargunclub.com
SUMMARY:Range Rules/Safety Class
DESCRIPTION:All members must attend a range rules class within 30 days of membership.
URL:https://willmargunclub.com/event/range-rules-safety-class-31/
LOCATION:WRPC Gun Range\, 5631 County Road 9 NE\, Willmar\, MN\, 56201\, United States
CATEGORIES:Safety Training
ORGANIZER;CN="WRPC":MAILTO:willmarrifleandpistolclub@gmail.com
END:VEVENT
BEGIN:VEVENT
DTSTART;TZID=America/Chicago:20260502T090000
DTEND;TZID=America/Chicago:20260502T120000
DTSTAMP:20260423T180433
CREATED:20260120T163329Z
LAST-MODIFIED:20260122T012434Z
UID:3468-1777712400-1777723200@willmargunclub.com
SUMMARY:Varmint Shoot
DESCRIPTION:$5/shooter
URL:https://willmargunclub.com/event/varmint-shoot-9/
LOCATION:WRPC Gun Range\, 5631 County Road 9 NE\, Willmar\, MN\, 56201\, United States
CATEGORIES:Shooting Events,Varmint
ORGANIZER;CN="WRPC":MAILTO:willmarrifleandpistolclub@gmail.com
END:VEVENT
BEGIN:VEVENT
DTSTART;TZID=America/Chicago:20260502T120000
DTEND;TZID=America/Chicago:20260502T123000
DTSTAMP:20260423T180433
CREATED:20260122T004636Z
LAST-MODIFIED:20260122T004636Z
UID:3487-1777723200-1777725000@willmargunclub.com
SUMMARY:Range Rules/Safety Class
DESCRIPTION:All members must attend a range rules class within 30 days of membership.
URL:https://willmargunclub.com/event/range-rules-safety-class-22/
LOCATION:WRPC Gun Range\, 5631 County Road 9 NE\, Willmar\, MN\, 56201\, United States
CATEGORIES:Safety Training
ORGANIZER;CN="WRPC":MAILTO:willmarrifleandpistolclub@gmail.com
END:VEVENT
BEGIN:VEVENT
DTSTART;TZID=America/Chicago:20260507T173000
DTEND;TZID=America/Chicago:20260507T203000
DTSTAMP:20260423T180433
CREATED:20260120T163705Z
LAST-MODIFIED:20260122T012428Z
UID:3472-1778175000-1778185800@willmargunclub.com
SUMMARY:USPSA Shoot
DESCRIPTION:$20/shooter & 1 gun\, a second gun $10
URL:https://willmargunclub.com/event/varmint-shoot-10/
LOCATION:WRPC Gun Range\, 5631 County Road 9 NE\, Willmar\, MN\, 56201\, United States
CATEGORIES:Shooting Events,USPSA
ORGANIZER;CN="WRPC":MAILTO:willmarrifleandpistolclub@gmail.com
END:VEVENT
BEGIN:VEVENT
DTSTART;TZID=America/Chicago:20260514T173000
DTEND;TZID=America/Chicago:20260514T210000
DTSTAMP:20260423T180433
CREATED:20260120T164115Z
LAST-MODIFIED:20260122T012422Z
UID:3477-1778779800-1778792400@willmargunclub.com
SUMMARY:Steel Shoot
DESCRIPTION:$15/shooter & 1 gun\, a second gun $5
URL:https://willmargunclub.com/event/steel-shoot-2/
LOCATION:WRPC Gun Range\, 5631 County Road 9 NE\, Willmar\, MN\, 56201\, United States
CATEGORIES:Shooting Events,Steel Shoot
ORGANIZER;CN="WRPC":MAILTO:willmarrifleandpistolclub@gmail.com
END:VEVENT
BEGIN:VEVENT
DTSTART;TZID=America/Chicago:20260518T180000
DTEND;TZID=America/Chicago:20260518T183000
DTSTAMP:20260423T180433
CREATED:20260122T010155Z
LAST-MODIFIED:20260122T010155Z
UID:3507-1779127200-1779129000@willmargunclub.com
SUMMARY:Range Rules/Safety Class
DESCRIPTION:All members must attend a range rules class within 30 days of membership.
URL:https://willmargunclub.com/event/range-rules-safety-class-32/
LOCATION:WRPC Gun Range\, 5631 County Road 9 NE\, Willmar\, MN\, 56201\, United States
CATEGORIES:Safety Training
ORGANIZER;CN="WRPC":MAILTO:willmarrifleandpistolclub@gmail.com
END:VEVENT
BEGIN:VEVENT
DTSTART;TZID=America/Chicago:20260521T173000
DTEND;TZID=America/Chicago:20260521T210000
DTSTAMP:20260423T180433
CREATED:20260120T163925Z
LAST-MODIFIED:20260122T012409Z
UID:3475-1779384600-1779397200@willmargunclub.com
SUMMARY:USPSA Shoot
DESCRIPTION:$20/shooter & 1 gun\, a second gun $10
URL:https://willmargunclub.com/event/uspsa-shoot/
LOCATION:WRPC Gun Range\, 5631 County Road 9 NE\, Willmar\, MN\, 56201\, United States
CATEGORIES:Shooting Events,USPSA
ORGANIZER;CN="WRPC":MAILTO:willmarrifleandpistolclub@gmail.com
END:VEVENT
BEGIN:VEVENT
DTSTART;TZID=America/Chicago:20260604T173000
DTEND;TZID=America/Chicago:20260604T213000
DTSTAMP:20260423T180433
CREATED:20260122T011353Z
LAST-MODIFIED:20260122T012402Z
UID:3523-1780594200-1780608600@willmargunclub.com
SUMMARY:USPSA Shoot
DESCRIPTION:$20/shooter & 1 gun\, a second gun $10
URL:https://willmargunclub.com/event/uspsa-shoot-2/
LOCATION:WRPC Gun Range\, 5631 County Road 9 NE\, Willmar\, MN\, 56201\, United States
CATEGORIES:Shooting Events,USPSA
ORGANIZER;CN="WRPC":MAILTO:willmarrifleandpistolclub@gmail.com
END:VEVENT
BEGIN:VEVENT
DTSTART;TZID=America/Chicago:20260606T000000
DTEND;TZID=America/Chicago:20260606T123000
DTSTAMP:20260423T180433
CREATED:20260122T004737Z
LAST-MODIFIED:20260122T004737Z
UID:3489-1780704000-1780749000@willmargunclub.com
SUMMARY:Range Rules/Safety Class
DESCRIPTION:All members must attend a range rules class within 30 days of membership.
URL:https://willmargunclub.com/event/range-rules-safety-class-23/
LOCATION:WRPC Gun Range\, 5631 County Road 9 NE\, Willmar\, MN\, 56201\, United States
CATEGORIES:Safety Training
ORGANIZER;CN="WRPC":MAILTO:willmarrifleandpistolclub@gmail.com
END:VEVENT
BEGIN:VEVENT
DTSTART;TZID=America/Chicago:20260606T090000
DTEND;TZID=America/Chicago:20260606T120000
DTSTAMP:20260423T180433
CREATED:20260122T011757Z
LAST-MODIFIED:20260122T012353Z
UID:3527-1780736400-1780747200@willmargunclub.com
SUMMARY:Varmint Shoot
DESCRIPTION:$5/shooter
URL:https://willmargunclub.com/event/varmint-shoot-11/
LOCATION:WRPC Gun Range\, 5631 County Road 9 NE\, Willmar\, MN\, 56201\, United States
CATEGORIES:Shooting Events,Varmint
ORGANIZER;CN="WRPC":MAILTO:willmarrifleandpistolclub@gmail.com
END:VEVENT
BEGIN:VEVENT
DTSTART;TZID=America/Chicago:20260611T173000
DTEND;TZID=America/Chicago:20260611T210000
DTSTAMP:20260423T180433
CREATED:20260122T011910Z
LAST-MODIFIED:20260122T012342Z
UID:3529-1781199000-1781211600@willmargunclub.com
SUMMARY:Steel Shoot
DESCRIPTION:$15/shooter & 1 gun\, a second gun $5
URL:https://willmargunclub.com/event/steel-shoot-3/
LOCATION:WRPC Gun Range\, 5631 County Road 9 NE\, Willmar\, MN\, 56201\, United States
CATEGORIES:Shooting Events,Steel Shoot
ORGANIZER;CN="WRPC":MAILTO:willmarrifleandpistolclub@gmail.com
END:VEVENT
BEGIN:VEVENT
DTSTART;TZID=America/Chicago:20260613T090000
DTEND;TZID=America/Chicago:20260613T120000
DTSTAMP:20260423T180433
CREATED:20260122T012048Z
LAST-MODIFIED:20260122T012256Z
UID:3531-1781341200-1781352000@willmargunclub.com
SUMMARY:M1 Garand Shoot
DESCRIPTION:$25/shooter\, includes rifle and 53 rounds of ammo.
URL:https://willmargunclub.com/event/m1-garand-shoot-4/
LOCATION:WRPC Gun Range\, 5631 County Road 9 NE\, Willmar\, MN\, 56201\, United States
CATEGORIES:M1 Garand,Shooting Events
ORGANIZER;CN="WRPC":MAILTO:willmarrifleandpistolclub@gmail.com
END:VEVENT
BEGIN:VEVENT
DTSTART;TZID=America/Chicago:20260615T180000
DTEND;TZID=America/Chicago:20260615T183000
DTSTAMP:20260423T180433
CREATED:20260122T010410Z
LAST-MODIFIED:20260122T010410Z
UID:3509-1781546400-1781548200@willmargunclub.com
SUMMARY:Range Rules/Safety Class
DESCRIPTION:All members must attend a range rules class within 30 days of membership.
URL:https://willmargunclub.com/event/range-rules-safety-class-33/
LOCATION:WRPC Gun Range\, 5631 County Road 9 NE\, Willmar\, MN\, 56201\, United States
CATEGORIES:Safety Training
ORGANIZER;CN="WRPC":MAILTO:willmarrifleandpistolclub@gmail.com
END:VEVENT
BEGIN:VEVENT
DTSTART;TZID=America/Chicago:20260618T173000
DTEND;TZID=America/Chicago:20260618T213000
DTSTAMP:20260423T180433
CREATED:20260122T011546Z
LAST-MODIFIED:20260122T012325Z
UID:3525-1781803800-1781818200@willmargunclub.com
SUMMARY:USPSA Shoot
DESCRIPTION:$20/shooter & 1 gun\, a second gun $10
URL:https://willmargunclub.com/event/uspsa-shoot-3/
LOCATION:WRPC Gun Range\, 5631 County Road 9 NE\, Willmar\, MN\, 56201\, United States
CATEGORIES:Shooting Events,USPSA
ORGANIZER;CN="WRPC":MAILTO:willmarrifleandpistolclub@gmail.com
END:VEVENT
BEGIN:VEVENT
DTSTART;TZID=America/Chicago:20260704T120000
DTEND;TZID=America/Chicago:20260704T123000
DTSTAMP:20260423T180433
CREATED:20260122T004936Z
LAST-MODIFIED:20260122T004936Z
UID:3491-1783166400-1783168200@willmargunclub.com
SUMMARY:Range Rules/Safety Class
DESCRIPTION:All members must attend a range rules class within 30 days of membership.
URL:https://willmargunclub.com/event/range-rules-safety-class-24/
LOCATION:WRPC Gun Range\, 5631 County Road 9 NE\, Willmar\, MN\, 56201\, United States
CATEGORIES:Safety Training
ORGANIZER;CN="WRPC":MAILTO:willmarrifleandpistolclub@gmail.com
END:VEVENT
BEGIN:VEVENT
DTSTART;TZID=America/Chicago:20260709T173000
DTEND;TZID=America/Chicago:20260709T210000
DTSTAMP:20260423T180434
CREATED:20260124T212149Z
LAST-MODIFIED:20260124T212149Z
UID:3534-1783618200-1783630800@willmargunclub.com
SUMMARY:USPSA Shoot
DESCRIPTION:$20/shooter & 1 gun\, a second gun $10
URL:https://willmargunclub.com/event/uspsa-shoot-4/
LOCATION:WRPC Gun Range\, 5631 County Road 9 NE\, Willmar\, MN\, 56201\, United States
CATEGORIES:Shooting Events,USPSA
ORGANIZER;CN="WRPC":MAILTO:willmarrifleandpistolclub@gmail.com
END:VEVENT
BEGIN:VEVENT
DTSTART;TZID=America/Chicago:20260711T090000
DTEND;TZID=America/Chicago:20260711T120000
DTSTAMP:20260423T180434
CREATED:20260124T213255Z
LAST-MODIFIED:20260124T213255Z
UID:3544-1783760400-1783771200@willmargunclub.com
SUMMARY:Varmint Shoot
DESCRIPTION:$5/shooter
URL:https://willmargunclub.com/event/varmint-shoot-12/
LOCATION:WRPC Gun Range\, 5631 County Road 9 NE\, Willmar\, MN\, 56201\, United States
CATEGORIES:Shooting Events,Varmint
ORGANIZER;CN="WRPC":MAILTO:willmarrifleandpistolclub@gmail.com
END:VEVENT
BEGIN:VEVENT
DTSTART;TZID=America/Chicago:20260716T173000
DTEND;TZID=America/Chicago:20260716T210000
DTSTAMP:20260423T180434
CREATED:20260124T213002Z
LAST-MODIFIED:20260124T213002Z
UID:3542-1784223000-1784235600@willmargunclub.com
SUMMARY:Steel Shoot
DESCRIPTION:$15/shooter & 1 gun\, a second gun $5
URL:https://willmargunclub.com/event/steel-shoot-4/
LOCATION:WRPC Gun Range\, 5631 County Road 9 NE\, Willmar\, MN\, 56201\, United States
CATEGORIES:Shooting Events,Steel Shoot
ORGANIZER;CN="WRPC":MAILTO:willmarrifleandpistolclub@gmail.com
END:VEVENT
BEGIN:VEVENT
DTSTART;TZID=America/Chicago:20260718T090000
DTEND;TZID=America/Chicago:20260718T120000
DTSTAMP:20260423T180434
CREATED:20260124T212803Z
LAST-MODIFIED:20260124T212803Z
UID:3540-1784365200-1784376000@willmargunclub.com
SUMMARY:M1 Garand Shoot
DESCRIPTION:$25/shooter\, includes rifle and 53 rounds of ammo.
URL:https://willmargunclub.com/event/m1-garand-shoot-5/
LOCATION:WRPC Gun Range\, 5631 County Road 9 NE\, Willmar\, MN\, 56201\, United States
CATEGORIES:M1 Garand,Shooting Events
ORGANIZER;CN="WRPC":MAILTO:willmarrifleandpistolclub@gmail.com
END:VEVENT
BEGIN:VEVENT
DTSTART;TZID=America/Chicago:20260720T180000
DTEND;TZID=America/Chicago:20260720T183000
DTSTAMP:20260423T180434
CREATED:20260122T010508Z
LAST-MODIFIED:20260122T010508Z
UID:3511-1784570400-1784572200@willmargunclub.com
SUMMARY:Range Rules/Safety Class
DESCRIPTION:All members must attend a range rules class within 30 days of membership.
URL:https://willmargunclub.com/event/range-rules-safety-class-34/
LOCATION:WRPC Gun Range\, 5631 County Road 9 NE\, Willmar\, MN\, 56201\, United States
CATEGORIES:Safety Training
ORGANIZER;CN="WRPC":MAILTO:willmarrifleandpistolclub@gmail.com
END:VEVENT
BEGIN:VEVENT
DTSTART;TZID=America/Chicago:20260723T173000
DTEND;TZID=America/Chicago:20260723T210000
DTSTAMP:20260423T180434
CREATED:20260124T212317Z
LAST-MODIFIED:20260124T212354Z
UID:3536-1784827800-1784840400@willmargunclub.com
SUMMARY:USPSA Shoot
DESCRIPTION:$20/shooter & 1 gun\, a second gun $10
URL:https://willmargunclub.com/event/uspsa-shoot-5/
LOCATION:WRPC Gun Range\, 5631 County Road 9 NE\, Willmar\, MN\, 56201\, United States
CATEGORIES:Shooting Events,USPSA
ORGANIZER;CN="WRPC":MAILTO:willmarrifleandpistolclub@gmail.com
END:VEVENT
BEGIN:VEVENT
DTSTART;TZID=America/Chicago:20260730T173000
DTEND;TZID=America/Chicago:20260730T210000
DTSTAMP:20260423T180434
CREATED:20260124T212555Z
LAST-MODIFIED:20260124T212555Z
UID:3538-1785432600-1785445200@willmargunclub.com
SUMMARY:USPSA Shoot PCC
DESCRIPTION:$20/shooter & 1 gun\, a second gun $10
URL:https://willmargunclub.com/event/uspsa-shoot-pcc/
LOCATION:WRPC Gun Range\, 5631 County Road 9 NE\, Willmar\, MN\, 56201\, United States
CATEGORIES:Shooting Events,USPSA
ORGANIZER;CN="WRPC":MAILTO:willmarrifleandpistolclub@gmail.com
END:VEVENT
BEGIN:VEVENT
DTSTART;TZID=America/Chicago:20260801T090000
DTEND;TZID=America/Chicago:20260801T120000
DTSTAMP:20260423T180434
CREATED:20260124T214105Z
LAST-MODIFIED:20260124T214105Z
UID:3554-1785574800-1785585600@willmargunclub.com
SUMMARY:Varmint Shoot
DESCRIPTION:$5/shooter
URL:https://willmargunclub.com/event/varmint-shoot-17/
LOCATION:WRPC Gun Range\, 5631 County Road 9 NE\, Willmar\, MN\, 56201\, United States
CATEGORIES:Shooting Events,Varmint
ORGANIZER;CN="WRPC":MAILTO:willmarrifleandpistolclub@gmail.com
END:VEVENT
BEGIN:VEVENT
DTSTART;TZID=America/Chicago:20260801T120000
DTEND;TZID=America/Chicago:20260801T123000
DTSTAMP:20260423T180434
CREATED:20260122T005044Z
LAST-MODIFIED:20260122T005044Z
UID:3493-1785585600-1785587400@willmargunclub.com
SUMMARY:Range Rules/Safety Class
DESCRIPTION:All members must attend a range rules class within 30 days of membership.
URL:https://willmargunclub.com/event/range-rules-safety-class-25/
LOCATION:WRPC Gun Range\, 5631 County Road 9 NE\, Willmar\, MN\, 56201\, United States
CATEGORIES:Safety Training
ORGANIZER;CN="WRPC":MAILTO:willmarrifleandpistolclub@gmail.com
END:VEVENT
BEGIN:VEVENT
DTSTART;TZID=America/Chicago:20260806T173000
DTEND;TZID=America/Chicago:20260806T210000
DTSTAMP:20260423T180434
CREATED:20260124T214256Z
LAST-MODIFIED:20260124T214256Z
UID:3556-1786037400-1786050000@willmargunclub.com
SUMMARY:USPSA Shoot
DESCRIPTION:$20/shooter & 1 gun\, a second gun $10
URL:https://willmargunclub.com/event/uspsa-shoot-6/
LOCATION:WRPC Gun Range\, 5631 County Road 9 NE\, Willmar\, MN\, 56201\, United States
CATEGORIES:Shooting Events,USPSA
ORGANIZER;CN="WRPC":MAILTO:willmarrifleandpistolclub@gmail.com
END:VEVENT
BEGIN:VEVENT
DTSTART;TZID=America/Chicago:20260808T090000
DTEND;TZID=America/Chicago:20260808T140000
DTSTAMP:20260423T180434
CREATED:20260124T214906Z
LAST-MODIFIED:20260124T214906Z
UID:3560-1786179600-1786197600@willmargunclub.com
SUMMARY:USPSA Shoot Point Match
DESCRIPTION:Please be advised this upcoming USPSA event is scheduled for either August 8th or August 9th. We will update the calendar as soon as the final date is confirmed.
URL:https://willmargunclub.com/event/uspsa-shoot-point-match/
LOCATION:WRPC Gun Range\, 5631 County Road 9 NE\, Willmar\, MN\, 56201\, United States
CATEGORIES:Shooting Events,USPSA
ORGANIZER;CN="WRPC":MAILTO:willmarrifleandpistolclub@gmail.com
END:VEVENT
BEGIN:VEVENT
DTSTART;TZID=America/Chicago:20260809T090000
DTEND;TZID=America/Chicago:20260809T140000
DTSTAMP:20260423T180434
CREATED:20260124T215513Z
LAST-MODIFIED:20260124T215513Z
UID:3562-1786266000-1786284000@willmargunclub.com
SUMMARY:USPSA Shoot Point Match
DESCRIPTION:Please be advised this upcoming USPSA event is scheduled for either August 8th or August 9th. We will update the calendar as soon as the final date is confirmed.
URL:https://willmargunclub.com/event/uspsa-shoot-point-match-2/
LOCATION:WRPC Gun Range\, 5631 County Road 9 NE\, Willmar\, MN\, 56201\, United States
CATEGORIES:Shooting Events,USPSA
ORGANIZER;CN="WRPC":MAILTO:willmarrifleandpistolclub@gmail.com
END:VEVENT
BEGIN:VEVENT
DTSTART;TZID=America/Chicago:20260813T173000
DTEND;TZID=America/Chicago:20260813T213000
DTSTAMP:20260423T180434
CREATED:20260124T215712Z
LAST-MODIFIED:20260124T215712Z
UID:3564-1786642200-1786656600@willmargunclub.com
SUMMARY:Steel Shoot
DESCRIPTION:$15/shooter & 1 gun\, a second gun $5
URL:https://willmargunclub.com/event/steel-shoot-5/
LOCATION:WRPC Gun Range\, 5631 County Road 9 NE\, Willmar\, MN\, 56201\, United States
CATEGORIES:Shooting Events,Steel Shoot
ORGANIZER;CN="WRPC":MAILTO:willmarrifleandpistolclub@gmail.com
END:VEVENT
BEGIN:VEVENT
DTSTART;TZID=America/Chicago:20260817T180000
DTEND;TZID=America/Chicago:20260817T183000
DTSTAMP:20260423T180434
CREATED:20260122T010619Z
LAST-MODIFIED:20260122T010619Z
UID:3513-1786989600-1786991400@willmargunclub.com
SUMMARY:Range Rules/Safety Class
DESCRIPTION:All members must attend a range rules class within 30 days of membership.
URL:https://willmargunclub.com/event/range-rules-safety-class-35/
LOCATION:WRPC Gun Range\, 5631 County Road 9 NE\, Willmar\, MN\, 56201\, United States
CATEGORIES:Safety Training
ORGANIZER;CN="WRPC":MAILTO:willmarrifleandpistolclub@gmail.com
END:VEVENT
BEGIN:VEVENT
DTSTART;TZID=America/Chicago:20260820T173000
DTEND;TZID=America/Chicago:20260820T210000
DTSTAMP:20260423T180434
CREATED:20260124T214431Z
LAST-MODIFIED:20260124T214431Z
UID:3558-1787247000-1787259600@willmargunclub.com
SUMMARY:USPSA Shoot
DESCRIPTION:$20/shooter & 1 gun\, a second gun $10
URL:https://willmargunclub.com/event/uspsa-shoot-7/
LOCATION:WRPC Gun Range\, 5631 County Road 9 NE\, Willmar\, MN\, 56201\, United States
CATEGORIES:Shooting Events,USPSA
ORGANIZER;CN="WRPC":MAILTO:willmarrifleandpistolclub@gmail.com
END:VEVENT
END:VCALENDAR