BEGIN:VCALENDAR
VERSION:2.0
PRODID:-//Willmar Rifle &amp; Pistol Club - ECPv6.15.20//NONSGML v1.0//EN
CALSCALE:GREGORIAN
METHOD:PUBLISH
X-WR-CALNAME:Willmar Rifle &amp; Pistol Club
X-ORIGINAL-URL:https://willmargunclub.com
X-WR-CALDESC:Events for Willmar Rifle &amp; Pistol Club
REFRESH-INTERVAL;VALUE=DURATION:PT1H
X-Robots-Tag:noindex
X-PUBLISHED-TTL:PT1H
BEGIN:VTIMEZONE
TZID:America/Chicago
BEGIN:DAYLIGHT
TZOFFSETFROM:-0600
TZOFFSETTO:-0500
TZNAME:CDT
DTSTART:20250309T080000
END:DAYLIGHT
BEGIN:STANDARD
TZOFFSETFROM:-0500
TZOFFSETTO:-0600
TZNAME:CST
DTSTART:20251102T070000
END:STANDARD
BEGIN:DAYLIGHT
TZOFFSETFROM:-0600
TZOFFSETTO:-0500
TZNAME:CDT
DTSTART:20260308T080000
END:DAYLIGHT
BEGIN:STANDARD
TZOFFSETFROM:-0500
TZOFFSETTO:-0600
TZNAME:CST
DTSTART:20261101T070000
END:STANDARD
BEGIN:DAYLIGHT
TZOFFSETFROM:-0600
TZOFFSETTO:-0500
TZNAME:CDT
DTSTART:20270314T080000
END:DAYLIGHT
BEGIN:STANDARD
TZOFFSETFROM:-0500
TZOFFSETTO:-0600
TZNAME:CST
DTSTART:20271107T070000
END:STANDARD
END:VTIMEZONE
BEGIN:VEVENT
DTSTART;TZID=America/Chicago:20260502T090000
DTEND;TZID=America/Chicago:20260502T120000
DTSTAMP:20260423T143834
CREATED:20260120T163329Z
LAST-MODIFIED:20260122T012434Z
UID:3468-1777712400-1777723200@willmargunclub.com
SUMMARY:Varmint Shoot
DESCRIPTION:$5/shooter
URL:https://willmargunclub.com/event/varmint-shoot-9/
LOCATION:WRPC Gun Range\, 5631 County Road 9 NE\, Willmar\, MN\, 56201\, United States
CATEGORIES:Shooting Events,Varmint
ORGANIZER;CN="WRPC":MAILTO:willmarrifleandpistolclub@gmail.com
END:VEVENT
BEGIN:VEVENT
DTSTART;TZID=America/Chicago:20260606T090000
DTEND;TZID=America/Chicago:20260606T120000
DTSTAMP:20260423T143834
CREATED:20260122T011757Z
LAST-MODIFIED:20260122T012353Z
UID:3527-1780736400-1780747200@willmargunclub.com
SUMMARY:Varmint Shoot
DESCRIPTION:$5/shooter
URL:https://willmargunclub.com/event/varmint-shoot-11/
LOCATION:WRPC Gun Range\, 5631 County Road 9 NE\, Willmar\, MN\, 56201\, United States
CATEGORIES:Shooting Events,Varmint
ORGANIZER;CN="WRPC":MAILTO:willmarrifleandpistolclub@gmail.com
END:VEVENT
BEGIN:VEVENT
DTSTART;TZID=America/Chicago:20260711T090000
DTEND;TZID=America/Chicago:20260711T120000
DTSTAMP:20260423T143834
CREATED:20260124T213255Z
LAST-MODIFIED:20260124T213255Z
UID:3544-1783760400-1783771200@willmargunclub.com
SUMMARY:Varmint Shoot
DESCRIPTION:$5/shooter
URL:https://willmargunclub.com/event/varmint-shoot-12/
LOCATION:WRPC Gun Range\, 5631 County Road 9 NE\, Willmar\, MN\, 56201\, United States
CATEGORIES:Shooting Events,Varmint
ORGANIZER;CN="WRPC":MAILTO:willmarrifleandpistolclub@gmail.com
END:VEVENT
BEGIN:VEVENT
DTSTART;TZID=America/Chicago:20260801T090000
DTEND;TZID=America/Chicago:20260801T120000
DTSTAMP:20260423T143834
CREATED:20260124T214105Z
LAST-MODIFIED:20260124T214105Z
UID:3554-1785574800-1785585600@willmargunclub.com
SUMMARY:Varmint Shoot
DESCRIPTION:$5/shooter
URL:https://willmargunclub.com/event/varmint-shoot-17/
LOCATION:WRPC Gun Range\, 5631 County Road 9 NE\, Willmar\, MN\, 56201\, United States
CATEGORIES:Shooting Events,Varmint
ORGANIZER;CN="WRPC":MAILTO:willmarrifleandpistolclub@gmail.com
END:VEVENT
BEGIN:VEVENT
DTSTART;TZID=America/Chicago:20260829T090000
DTEND;TZID=America/Chicago:20260829T120000
DTSTAMP:20260423T143834
CREATED:20260124T213443Z
LAST-MODIFIED:20260124T213443Z
UID:3546-1787994000-1788004800@willmargunclub.com
SUMMARY:Varmint Shoot
DESCRIPTION:$5/shooter
URL:https://willmargunclub.com/event/varmint-shoot-13/
LOCATION:WRPC Gun Range\, 5631 County Road 9 NE\, Willmar\, MN\, 56201\, United States
CATEGORIES:Shooting Events,Varmint
ORGANIZER;CN="WRPC":MAILTO:willmarrifleandpistolclub@gmail.com
END:VEVENT
BEGIN:VEVENT
DTSTART;TZID=America/Chicago:20261003T090000
DTEND;TZID=America/Chicago:20261003T120000
DTSTAMP:20260423T143834
CREATED:20260124T213614Z
LAST-MODIFIED:20260124T213614Z
UID:3548-1791018000-1791028800@willmargunclub.com
SUMMARY:Varmint Shoot
DESCRIPTION:$5/shooter
URL:https://willmargunclub.com/event/varmint-shoot-14/
LOCATION:WRPC Gun Range\, 5631 County Road 9 NE\, Willmar\, MN\, 56201\, United States
CATEGORIES:Shooting Events,Varmint
ORGANIZER;CN="WRPC":MAILTO:willmarrifleandpistolclub@gmail.com
END:VEVENT
BEGIN:VEVENT
DTSTART;TZID=America/Chicago:20261107T130000
DTEND;TZID=America/Chicago:20261107T150000
DTSTAMP:20260423T143834
CREATED:20260124T213729Z
LAST-MODIFIED:20260124T213922Z
UID:3550-1794056400-1794063600@willmargunclub.com
SUMMARY:Varmint Shoot
DESCRIPTION:$5/shooter
URL:https://willmargunclub.com/event/varmint-shoot-15/
LOCATION:WRPC Gun Range\, 5631 County Road 9 NE\, Willmar\, MN\, 56201\, United States
CATEGORIES:Shooting Events,Varmint
ORGANIZER;CN="WRPC":MAILTO:willmarrifleandpistolclub@gmail.com
END:VEVENT
BEGIN:VEVENT
DTSTART;TZID=America/Chicago:20261205T130000
DTEND;TZID=America/Chicago:20261205T150000
DTSTAMP:20260423T143834
CREATED:20260124T213836Z
LAST-MODIFIED:20260124T213859Z
UID:3552-1796475600-1796482800@willmargunclub.com
SUMMARY:Varmint Shoot
DESCRIPTION:$5/shooter
URL:https://willmargunclub.com/event/varmint-shoot-16/
LOCATION:WRPC Gun Range\, 5631 County Road 9 NE\, Willmar\, MN\, 56201\, United States
CATEGORIES:Shooting Events,Varmint
ORGANIZER;CN="WRPC":MAILTO:willmarrifleandpistolclub@gmail.com
END:VEVENT
END:VCALENDAR