BEGIN:VCALENDAR
VERSION:2.0
PRODID:-//Willmar Rifle &amp; Pistol Club - ECPv6.15.20//NONSGML v1.0//EN
CALSCALE:GREGORIAN
METHOD:PUBLISH
X-ORIGINAL-URL:https://willmargunclub.com
X-WR-CALDESC:Events for Willmar Rifle &amp; Pistol Club
REFRESH-INTERVAL;VALUE=DURATION:PT1H
X-Robots-Tag:noindex
X-PUBLISHED-TTL:PT1H
BEGIN:VTIMEZONE
TZID:America/Chicago
BEGIN:DAYLIGHT
TZOFFSETFROM:-0600
TZOFFSETTO:-0500
TZNAME:CDT
DTSTART:20240310T080000
END:DAYLIGHT
BEGIN:STANDARD
TZOFFSETFROM:-0500
TZOFFSETTO:-0600
TZNAME:CST
DTSTART:20241103T070000
END:STANDARD
BEGIN:DAYLIGHT
TZOFFSETFROM:-0600
TZOFFSETTO:-0500
TZNAME:CDT
DTSTART:20250309T080000
END:DAYLIGHT
BEGIN:STANDARD
TZOFFSETFROM:-0500
TZOFFSETTO:-0600
TZNAME:CST
DTSTART:20251102T070000
END:STANDARD
BEGIN:DAYLIGHT
TZOFFSETFROM:-0600
TZOFFSETTO:-0500
TZNAME:CDT
DTSTART:20260308T080000
END:DAYLIGHT
BEGIN:STANDARD
TZOFFSETFROM:-0500
TZOFFSETTO:-0600
TZNAME:CST
DTSTART:20261101T070000
END:STANDARD
BEGIN:DAYLIGHT
TZOFFSETFROM:-0600
TZOFFSETTO:-0500
TZNAME:CDT
DTSTART:20270314T080000
END:DAYLIGHT
BEGIN:STANDARD
TZOFFSETFROM:-0500
TZOFFSETTO:-0600
TZNAME:CST
DTSTART:20271107T070000
END:STANDARD
END:VTIMEZONE
BEGIN:VEVENT
DTSTART;TZID=America/Chicago:20260404T090000
DTEND;TZID=America/Chicago:20260404T120000
DTSTAMP:20260423T162650
CREATED:20260311T021423Z
LAST-MODIFIED:20260311T021423Z
UID:3609-1775293200-1775304000@willmargunclub.com
SUMMARY:Varmint Shoot
DESCRIPTION:$5/shooter
URL:https://willmargunclub.com/event/varmint-shoot-19/
LOCATION:WRPC Gun Range\, 5631 County Road 9 NE\, Willmar\, MN\, 56201\, United States
CATEGORIES:Shooting Events,Varmint
ORGANIZER;CN="WRPC":MAILTO:willmarrifleandpistolclub@gmail.com
END:VEVENT
BEGIN:VEVENT
DTSTART;TZID=America/Chicago:20260314T090000
DTEND;TZID=America/Chicago:20260314T120000
DTSTAMP:20260423T162650
CREATED:20260311T021249Z
LAST-MODIFIED:20260311T021249Z
UID:3607-1773478800-1773489600@willmargunclub.com
SUMMARY:Varmint Shoot
DESCRIPTION:$5/shooter
URL:https://willmargunclub.com/event/varmint-shoot-18/
LOCATION:WRPC Gun Range\, 5631 County Road 9 NE\, Willmar\, MN\, 56201\, United States
CATEGORIES:Shooting Events,Varmint
ORGANIZER;CN="WRPC":MAILTO:willmarrifleandpistolclub@gmail.com
END:VEVENT
BEGIN:VEVENT
DTSTART;TZID=America/Chicago:20251206T130000
DTEND;TZID=America/Chicago:20251206T150000
DTSTAMP:20260423T162650
CREATED:20250315T204639Z
LAST-MODIFIED:20250315T204639Z
UID:2660-1765026000-1765033200@willmargunclub.com
SUMMARY:Varmint Shoot
DESCRIPTION:Varmint Shoot\n$5/shooter
URL:https://willmargunclub.com/event/varmint-shoot-8/
LOCATION:MN
CATEGORIES:Shooting Events,Varmint
ATTACH;FMTTYPE=image/webp:https://willmargunclub.com/wp-content/uploads/wrpc-6877.webp
END:VEVENT
BEGIN:VEVENT
DTSTART;TZID=America/Chicago:20251101T130000
DTEND;TZID=America/Chicago:20251101T150000
DTSTAMP:20260423T162650
CREATED:20250315T204520Z
LAST-MODIFIED:20250315T204520Z
UID:2658-1762002000-1762009200@willmargunclub.com
SUMMARY:Varmint Shoot
DESCRIPTION:Varmint Shoot\n$5/shooter
URL:https://willmargunclub.com/event/varmint-shoot-7/
LOCATION:MN
CATEGORIES:Shooting Events,Varmint
ATTACH;FMTTYPE=image/webp:https://willmargunclub.com/wp-content/uploads/wrpc-6877.webp
END:VEVENT
BEGIN:VEVENT
DTSTART;TZID=America/Chicago:20251004T090000
DTEND;TZID=America/Chicago:20251004T120000
DTSTAMP:20260423T162650
CREATED:20250315T204357Z
LAST-MODIFIED:20250315T204357Z
UID:2656-1759568400-1759579200@willmargunclub.com
SUMMARY:Varmint Shoot
DESCRIPTION:Varmint Shoot\n$5/shooter
URL:https://willmargunclub.com/event/varmint-shoot-6/
LOCATION:MN
CATEGORIES:Shooting Events,Varmint
ATTACH;FMTTYPE=image/webp:https://willmargunclub.com/wp-content/uploads/wrpc-6877.webp
END:VEVENT
BEGIN:VEVENT
DTSTART;TZID=America/Chicago:20250828T173000
DTEND;TZID=America/Chicago:20250828T210000
DTSTAMP:20260423T162650
CREATED:20250315T203749Z
LAST-MODIFIED:20250315T203749Z
UID:2652-1756402200-1756414800@willmargunclub.com
SUMMARY:Varmint Shoot
DESCRIPTION:Varmint Shoot\n$5/shooter
URL:https://willmargunclub.com/event/varmint-shoot-5/
LOCATION:MN
CATEGORIES:Shooting Events,Varmint
ATTACH;FMTTYPE=image/webp:https://willmargunclub.com/wp-content/uploads/wrpc-6877.webp
END:VEVENT
BEGIN:VEVENT
DTSTART;TZID=America/Chicago:20250802T090000
DTEND;TZID=America/Chicago:20250802T120000
DTSTAMP:20260423T162650
CREATED:20250315T203546Z
LAST-MODIFIED:20250315T203546Z
UID:2650-1754125200-1754136000@willmargunclub.com
SUMMARY:Varmint Shoot
DESCRIPTION:Varmint Shoot\n$5/shooter
URL:https://willmargunclub.com/event/varmint-shoot-4/
LOCATION:MN
CATEGORIES:Shooting Events,Varmint
ATTACH;FMTTYPE=image/webp:https://willmargunclub.com/wp-content/uploads/wrpc-6877.webp
END:VEVENT
BEGIN:VEVENT
DTSTART;TZID=America/Chicago:20250705T090000
DTEND;TZID=America/Chicago:20250705T120000
DTSTAMP:20260423T162650
CREATED:20250315T203337Z
LAST-MODIFIED:20250315T203337Z
UID:2648-1751706000-1751716800@willmargunclub.com
SUMMARY:Varmint Shoot
DESCRIPTION:Varmint Shoot\n$5/shooter
URL:https://willmargunclub.com/event/varmint-shoot-3/
LOCATION:MN
CATEGORIES:Shooting Events,Varmint
ATTACH;FMTTYPE=image/webp:https://willmargunclub.com/wp-content/uploads/wrpc-6141.webp
END:VEVENT
BEGIN:VEVENT
DTSTART;TZID=America/Chicago:20250607T090000
DTEND;TZID=America/Chicago:20250607T120000
DTSTAMP:20260423T162650
CREATED:20250315T203133Z
LAST-MODIFIED:20250422T191547Z
UID:2646-1749286800-1749297600@willmargunclub.com
SUMMARY:Varmint Shoot
DESCRIPTION:Varmint Shoot\n$5/shooter
URL:https://willmargunclub.com/event/varmint-shoot-2/
LOCATION:MN
CATEGORIES:Shooting Events,Varmint
ATTACH;FMTTYPE=image/webp:https://willmargunclub.com/wp-content/uploads/wrpc-6141.webp
ORGANIZER;CN="WRPC":MAILTO:willmarrifleandpistolclub@gmail.com
END:VEVENT
BEGIN:VEVENT
DTSTART;TZID=America/Chicago:20250503T090000
DTEND;TZID=America/Chicago:20250503T120000
DTSTAMP:20260423T162650
CREATED:20250212T202646Z
LAST-MODIFIED:20250212T202646Z
UID:420-1746262800-1746273600@willmargunclub.com
SUMMARY:Varmint Shoot
DESCRIPTION:Varmint Shoot\n$5/shooter
URL:https://willmargunclub.com/event/varmint-shoot/
LOCATION:MN
CATEGORIES:Shooting Events,Varmint
ATTACH;FMTTYPE=image/webp:https://willmargunclub.com/wp-content/uploads/wrpc-6141.webp
END:VEVENT
END:VCALENDAR