BEGIN:VCALENDAR
VERSION:2.0
PRODID:-//Willmar Rifle &amp; Pistol Club - ECPv6.15.20//NONSGML v1.0//EN
CALSCALE:GREGORIAN
METHOD:PUBLISH
X-WR-CALNAME:Willmar Rifle &amp; Pistol Club
X-ORIGINAL-URL:https://willmargunclub.com
X-WR-CALDESC:Events for Willmar Rifle &amp; Pistol Club
REFRESH-INTERVAL;VALUE=DURATION:PT1H
X-Robots-Tag:noindex
X-PUBLISHED-TTL:PT1H
BEGIN:VTIMEZONE
TZID:America/Chicago
BEGIN:DAYLIGHT
TZOFFSETFROM:-0600
TZOFFSETTO:-0500
TZNAME:CDT
DTSTART:20240310T080000
END:DAYLIGHT
BEGIN:STANDARD
TZOFFSETFROM:-0500
TZOFFSETTO:-0600
TZNAME:CST
DTSTART:20241103T070000
END:STANDARD
BEGIN:DAYLIGHT
TZOFFSETFROM:-0600
TZOFFSETTO:-0500
TZNAME:CDT
DTSTART:20250309T080000
END:DAYLIGHT
BEGIN:STANDARD
TZOFFSETFROM:-0500
TZOFFSETTO:-0600
TZNAME:CST
DTSTART:20251102T070000
END:STANDARD
BEGIN:DAYLIGHT
TZOFFSETFROM:-0600
TZOFFSETTO:-0500
TZNAME:CDT
DTSTART:20260308T080000
END:DAYLIGHT
BEGIN:STANDARD
TZOFFSETFROM:-0500
TZOFFSETTO:-0600
TZNAME:CST
DTSTART:20261101T070000
END:STANDARD
END:VTIMEZONE
BEGIN:VEVENT
DTSTART;TZID=America/Chicago:20250705T090000
DTEND;TZID=America/Chicago:20250705T120000
DTSTAMP:20260423T182131
CREATED:20250315T203337Z
LAST-MODIFIED:20250315T203337Z
UID:2648-1751706000-1751716800@willmargunclub.com
SUMMARY:Varmint Shoot
DESCRIPTION:Varmint Shoot\n$5/shooter
URL:https://willmargunclub.com/event/varmint-shoot-3/
LOCATION:MN
CATEGORIES:Shooting Events,Varmint
ATTACH;FMTTYPE=image/webp:https://willmargunclub.com/wp-content/uploads/wrpc-6141.webp
END:VEVENT
BEGIN:VEVENT
DTSTART;TZID=America/Chicago:20250619T173000
DTEND;TZID=America/Chicago:20250619T213000
DTSTAMP:20260423T182131
CREATED:20250308T040040Z
LAST-MODIFIED:20250308T040040Z
UID:2020-1750354200-1750368600@willmargunclub.com
SUMMARY:USPSA Shoot
DESCRIPTION:USPSA Match\n$20/shooter & 1 gun\, a second gun $10
URL:https://willmargunclub.com/event/uspsa-match/
LOCATION:MN
CATEGORIES:Shooting Events,USPSA
ATTACH;FMTTYPE=image/webp:https://willmargunclub.com/wp-content/uploads/wrpc-2126-e1741398349321.webp
END:VEVENT
BEGIN:VEVENT
DTSTART;TZID=America/Chicago:20250614T090000
DTEND;TZID=America/Chicago:20250614T120000
DTSTAMP:20260423T182131
CREATED:20250315T022150Z
LAST-MODIFIED:20250315T022150Z
UID:2553-1749891600-1749902400@willmargunclub.com
SUMMARY:M1 Garand Shoot
DESCRIPTION:M1 Garand Shoot\n$25/shooter includes rifle and 53 rounds of ammo
URL:https://willmargunclub.com/event/m1-garand-shoot/
LOCATION:MN
CATEGORIES:M1 Garand,Shooting Events
ATTACH;FMTTYPE=image/jpeg:https://willmargunclub.com/wp-content/uploads/M1_Garand_competition.jpg
END:VEVENT
BEGIN:VEVENT
DTSTART;TZID=America/Chicago:20250612T173000
DTEND;TZID=America/Chicago:20250612T210000
DTSTAMP:20260423T182131
CREATED:20250315T020003Z
LAST-MODIFIED:20250606T134830Z
UID:2539-1749749400-1749762000@willmargunclub.com
SUMMARY:Steel Shoot
DESCRIPTION:Steel Shoot\n$15/shooter & 1 gun\, a second gun $5
URL:https://willmargunclub.com/event/steel-challenge/
LOCATION:MN
CATEGORIES:Shooting Events,Steel Shoot
ATTACH;FMTTYPE=image/webp:https://willmargunclub.com/wp-content/uploads/wrpc-958742.webp
END:VEVENT
BEGIN:VEVENT
DTSTART;TZID=America/Chicago:20250607T090000
DTEND;TZID=America/Chicago:20250607T120000
DTSTAMP:20260423T182131
CREATED:20250315T203133Z
LAST-MODIFIED:20250422T191547Z
UID:2646-1749286800-1749297600@willmargunclub.com
SUMMARY:Varmint Shoot
DESCRIPTION:Varmint Shoot\n$5/shooter
URL:https://willmargunclub.com/event/varmint-shoot-2/
LOCATION:MN
CATEGORIES:Shooting Events,Varmint
ATTACH;FMTTYPE=image/webp:https://willmargunclub.com/wp-content/uploads/wrpc-6141.webp
ORGANIZER;CN="WRPC":MAILTO:willmarrifleandpistolclub@gmail.com
END:VEVENT
BEGIN:VEVENT
DTSTART;TZID=America/Chicago:20250605T173000
DTEND;TZID=America/Chicago:20250605T213000
DTSTAMP:20260423T182131
CREATED:20250308T015133Z
LAST-MODIFIED:20250308T015133Z
UID:2015-1749144600-1749159000@willmargunclub.com
SUMMARY:USPSA Shoot
DESCRIPTION:USPSA Match\n$20/shooter & 1 gun\, a second gun $10
URL:https://willmargunclub.com/event/uspsa-match-2/
LOCATION:MN
CATEGORIES:Shooting Events,USPSA
ATTACH;FMTTYPE=image/webp:https://willmargunclub.com/wp-content/uploads/wrpc-2126-e1741398349321.webp
END:VEVENT
BEGIN:VEVENT
DTSTART;TZID=America/Chicago:20250515T173000
DTEND;TZID=America/Chicago:20250515T213000
DTSTAMP:20260423T182131
CREATED:20250308T014933Z
LAST-MODIFIED:20250515T193716Z
UID:2012-1747330200-1747344600@willmargunclub.com
SUMMARY:USPSA Shoot
DESCRIPTION:USPSA Match\n$20/shooter & 1 gun\, a second gun $10\n\n\n\nPostponed\nBecause of the weather conditions\, WRPC will not have USPSA tonight. We’ll do a makeup match next Thursday\, May 22.
URL:https://willmargunclub.com/event/uspsa-match-2-2/
LOCATION:WRPC Gun Range\, 5631 County Road 9 NE\, Willmar\, MN\, 56201\, United States
CATEGORIES:Shooting Events,USPSA
ATTACH;FMTTYPE=image/webp:https://willmargunclub.com/wp-content/uploads/wrpc-2126-e1741398349321.webp
ORGANIZER;CN="WRPC":MAILTO:willmarrifleandpistolclub@gmail.com
END:VEVENT
BEGIN:VEVENT
DTSTART;TZID=America/Chicago:20250508T173000
DTEND;TZID=America/Chicago:20250508T210000
DTSTAMP:20260423T182131
CREATED:20250216T215249Z
LAST-MODIFIED:20250216T215249Z
UID:755-1746725400-1746738000@willmargunclub.com
SUMMARY:Steel Shoot
DESCRIPTION:Steel Shoot\n$15/shooter & 1 gun\, a second gun $5
URL:https://willmargunclub.com/event/steel-shoot/
LOCATION:MN
CATEGORIES:Shooting Events,Steel Shoot
ATTACH;FMTTYPE=image/webp:https://willmargunclub.com/wp-content/uploads/wrpc-958742.webp
END:VEVENT
BEGIN:VEVENT
DTSTART;TZID=America/Chicago:20250503T090000
DTEND;TZID=America/Chicago:20250503T120000
DTSTAMP:20260423T182131
CREATED:20250212T202646Z
LAST-MODIFIED:20250212T202646Z
UID:420-1746262800-1746273600@willmargunclub.com
SUMMARY:Varmint Shoot
DESCRIPTION:Varmint Shoot\n$5/shooter
URL:https://willmargunclub.com/event/varmint-shoot/
LOCATION:MN
CATEGORIES:Shooting Events,Varmint
ATTACH;FMTTYPE=image/webp:https://willmargunclub.com/wp-content/uploads/wrpc-6141.webp
END:VEVENT
BEGIN:VEVENT
DTSTART;TZID=America/Chicago:20250501T173000
DTEND;TZID=America/Chicago:20250501T213000
DTSTAMP:20260423T182131
CREATED:20250212T202517Z
LAST-MODIFIED:20250212T202517Z
UID:418-1746120600-1746135000@willmargunclub.com
SUMMARY:USPSA Shoot
DESCRIPTION:USPSA Match\n$20/shooter & 1 gun\, a second gun $10
URL:https://willmargunclub.com/event/uspsa-match-1/
LOCATION:MN
CATEGORIES:Shooting Events,USPSA
ATTACH;FMTTYPE=image/webp:https://willmargunclub.com/wp-content/uploads/wrpc-2126-e1741398349321.webp
END:VEVENT
BEGIN:VEVENT
DTSTART;TZID=America/Chicago:20250307T080000
DTEND;TZID=America/Chicago:20250307T170000
DTSTAMP:20260423T182131
CREATED:20250308T040753Z
LAST-MODIFIED:20250308T040753Z
UID:2032-1741334400-1741366800@willmargunclub.com
SUMMARY:USPSA Shoot
DESCRIPTION:USPSA Match\n$20/shooter & 1 gun\, a second gun $10
URL:https://willmargunclub.com/event/uspsa-match-5/
LOCATION:MN
CATEGORIES:Shooting Events,USPSA
ATTACH;FMTTYPE=image/webp:https://willmargunclub.com/wp-content/uploads/wrpc-2126-e1741398349321.webp
END:VEVENT
END:VCALENDAR