BEGIN:VCALENDAR
VERSION:2.0
PRODID:-//Willmar Rifle &amp; Pistol Club - ECPv6.15.20//NONSGML v1.0//EN
CALSCALE:GREGORIAN
METHOD:PUBLISH
X-WR-CALNAME:Willmar Rifle &amp; Pistol Club
X-ORIGINAL-URL:https://willmargunclub.com
X-WR-CALDESC:Events for Willmar Rifle &amp; Pistol Club
REFRESH-INTERVAL;VALUE=DURATION:PT1H
X-Robots-Tag:noindex
X-PUBLISHED-TTL:PT1H
BEGIN:VTIMEZONE
TZID:America/Chicago
BEGIN:DAYLIGHT
TZOFFSETFROM:-0600
TZOFFSETTO:-0500
TZNAME:CDT
DTSTART:20250309T080000
END:DAYLIGHT
BEGIN:STANDARD
TZOFFSETFROM:-0500
TZOFFSETTO:-0600
TZNAME:CST
DTSTART:20251102T070000
END:STANDARD
BEGIN:DAYLIGHT
TZOFFSETFROM:-0600
TZOFFSETTO:-0500
TZNAME:CDT
DTSTART:20260308T080000
END:DAYLIGHT
BEGIN:STANDARD
TZOFFSETFROM:-0500
TZOFFSETTO:-0600
TZNAME:CST
DTSTART:20261101T070000
END:STANDARD
BEGIN:DAYLIGHT
TZOFFSETFROM:-0600
TZOFFSETTO:-0500
TZNAME:CDT
DTSTART:20270314T080000
END:DAYLIGHT
BEGIN:STANDARD
TZOFFSETFROM:-0500
TZOFFSETTO:-0600
TZNAME:CST
DTSTART:20271107T070000
END:STANDARD
END:VTIMEZONE
BEGIN:VEVENT
DTSTART;TZID=America/Chicago:20261003T120000
DTEND;TZID=America/Chicago:20261003T123000
DTSTAMP:20260423T184433
CREATED:20260122T005439Z
LAST-MODIFIED:20260122T005439Z
UID:3497-1791028800-1791030600@willmargunclub.com
SUMMARY:Range Rules/Safety Class
DESCRIPTION:All members must attend a range rules class within 30 days of membership.
URL:https://willmargunclub.com/event/range-rules-safety-class-27/
LOCATION:WRPC Gun Range\, 5631 County Road 9 NE\, Willmar\, MN\, 56201\, United States
CATEGORIES:Safety Training
ORGANIZER;CN="WRPC":MAILTO:willmarrifleandpistolclub@gmail.com
END:VEVENT
BEGIN:VEVENT
DTSTART;TZID=America/Chicago:20261019T180000
DTEND;TZID=America/Chicago:20261019T183000
DTSTAMP:20260423T184433
CREATED:20260122T010927Z
LAST-MODIFIED:20260122T010927Z
UID:3517-1792432800-1792434600@willmargunclub.com
SUMMARY:Range Rules/Safety Class
DESCRIPTION:All members must attend a range rules class within 30 days of membership.
URL:https://willmargunclub.com/event/range-rules-safety-class-37/
LOCATION:WRPC Gun Range\, 5631 County Road 9 NE\, Willmar\, MN\, 56201\, United States
CATEGORIES:Safety Training
ORGANIZER;CN="WRPC":MAILTO:willmarrifleandpistolclub@gmail.com
END:VEVENT
BEGIN:VEVENT
DTSTART;TZID=America/Chicago:20261107T120000
DTEND;TZID=America/Chicago:20261107T123000
DTSTAMP:20260423T184433
CREATED:20260122T005548Z
LAST-MODIFIED:20260122T005548Z
UID:3499-1794052800-1794054600@willmargunclub.com
SUMMARY:Range Rules/Safety Class
DESCRIPTION:All members must attend a range rules class within 30 days of membership.
URL:https://willmargunclub.com/event/range-rules-safety-class-28/
LOCATION:WRPC Gun Range\, 5631 County Road 9 NE\, Willmar\, MN\, 56201\, United States
CATEGORIES:Safety Training
ORGANIZER;CN="WRPC":MAILTO:willmarrifleandpistolclub@gmail.com
END:VEVENT
BEGIN:VEVENT
DTSTART;TZID=America/Chicago:20261116T180000
DTEND;TZID=America/Chicago:20261116T183000
DTSTAMP:20260423T184433
CREATED:20260122T011025Z
LAST-MODIFIED:20260122T011025Z
UID:3519-1794852000-1794853800@willmargunclub.com
SUMMARY:Range Rules/Safety Class
DESCRIPTION:All members must attend a range rules class within 30 days of membership.
URL:https://willmargunclub.com/event/range-rules-safety-class-38/
LOCATION:WRPC Gun Range\, 5631 County Road 9 NE\, Willmar\, MN\, 56201\, United States
CATEGORIES:Safety Training
ORGANIZER;CN="WRPC":MAILTO:willmarrifleandpistolclub@gmail.com
END:VEVENT
BEGIN:VEVENT
DTSTART;TZID=America/Chicago:20261205T120000
DTEND;TZID=America/Chicago:20261205T123000
DTSTAMP:20260423T184433
CREATED:20260122T005647Z
LAST-MODIFIED:20260122T005647Z
UID:3501-1796472000-1796473800@willmargunclub.com
SUMMARY:Range Rules/Safety Class
DESCRIPTION:All members must attend a range rules class within 30 days of membership.
URL:https://willmargunclub.com/event/range-rules-safety-class-29/
LOCATION:WRPC Gun Range\, 5631 County Road 9 NE\, Willmar\, MN\, 56201\, United States
CATEGORIES:Safety Training
ORGANIZER;CN="WRPC":MAILTO:willmarrifleandpistolclub@gmail.com
END:VEVENT
BEGIN:VEVENT
DTSTART;TZID=America/Chicago:20261221T180000
DTEND;TZID=America/Chicago:20261221T183000
DTSTAMP:20260423T184433
CREATED:20260122T011124Z
LAST-MODIFIED:20260122T011124Z
UID:3521-1797876000-1797877800@willmargunclub.com
SUMMARY:Range Rules/Safety Class
DESCRIPTION:All members must attend a range rules class within 30 days of membership.
URL:https://willmargunclub.com/event/range-rules-safety-class-39/
LOCATION:WRPC Gun Range\, 5631 County Road 9 NE\, Willmar\, MN\, 56201\, United States
CATEGORIES:Safety Training
ORGANIZER;CN="WRPC":MAILTO:willmarrifleandpistolclub@gmail.com
END:VEVENT
END:VCALENDAR