BEGIN:VCALENDAR
VERSION:2.0
PRODID:-//Willmar Rifle &amp; Pistol Club - ECPv6.15.20//NONSGML v1.0//EN
CALSCALE:GREGORIAN
METHOD:PUBLISH
X-ORIGINAL-URL:https://willmargunclub.com
X-WR-CALDESC:Events for Willmar Rifle &amp; Pistol Club
REFRESH-INTERVAL;VALUE=DURATION:PT1H
X-Robots-Tag:noindex
X-PUBLISHED-TTL:PT1H
BEGIN:VTIMEZONE
TZID:America/Chicago
BEGIN:DAYLIGHT
TZOFFSETFROM:-0600
TZOFFSETTO:-0500
TZNAME:CDT
DTSTART:20250309T080000
END:DAYLIGHT
BEGIN:STANDARD
TZOFFSETFROM:-0500
TZOFFSETTO:-0600
TZNAME:CST
DTSTART:20251102T070000
END:STANDARD
BEGIN:DAYLIGHT
TZOFFSETFROM:-0600
TZOFFSETTO:-0500
TZNAME:CDT
DTSTART:20260308T080000
END:DAYLIGHT
BEGIN:STANDARD
TZOFFSETFROM:-0500
TZOFFSETTO:-0600
TZNAME:CST
DTSTART:20261101T070000
END:STANDARD
BEGIN:DAYLIGHT
TZOFFSETFROM:-0600
TZOFFSETTO:-0500
TZNAME:CDT
DTSTART:20270314T080000
END:DAYLIGHT
BEGIN:STANDARD
TZOFFSETFROM:-0500
TZOFFSETTO:-0600
TZNAME:CST
DTSTART:20271107T070000
END:STANDARD
END:VTIMEZONE
BEGIN:VEVENT
DTSTART;TZID=America/Chicago:20260404T120000
DTEND;TZID=America/Chicago:20260404T123000
DTSTAMP:20260423T162818
CREATED:20260122T004531Z
LAST-MODIFIED:20260122T005158Z
UID:3485-1775304000-1775305800@willmargunclub.com
SUMMARY:Range Rules/Safety Class
DESCRIPTION:All members must attend a range rules class within 30 days of membership.
URL:https://willmargunclub.com/event/range-rules-safety-class-21/
LOCATION:WRPC Gun Range\, 5631 County Road 9 NE\, Willmar\, MN\, 56201\, United States
CATEGORIES:Safety Training
ORGANIZER;CN="WRPC":MAILTO:willmarrifleandpistolclub@gmail.com
END:VEVENT
END:VCALENDAR