BEGIN:VCALENDAR
VERSION:2.0
PRODID:-//Willmar Rifle &amp; Pistol Club - ECPv6.15.20//NONSGML v1.0//EN
CALSCALE:GREGORIAN
METHOD:PUBLISH
X-ORIGINAL-URL:https://willmargunclub.com
X-WR-CALDESC:Events for Willmar Rifle &amp; Pistol Club
REFRESH-INTERVAL;VALUE=DURATION:PT1H
X-Robots-Tag:noindex
X-PUBLISHED-TTL:PT1H
BEGIN:VTIMEZONE
TZID:America/Chicago
BEGIN:DAYLIGHT
TZOFFSETFROM:-0600
TZOFFSETTO:-0500
TZNAME:CDT
DTSTART:20250309T080000
END:DAYLIGHT
BEGIN:STANDARD
TZOFFSETFROM:-0500
TZOFFSETTO:-0600
TZNAME:CST
DTSTART:20251102T070000
END:STANDARD
BEGIN:DAYLIGHT
TZOFFSETFROM:-0600
TZOFFSETTO:-0500
TZNAME:CDT
DTSTART:20260308T080000
END:DAYLIGHT
BEGIN:STANDARD
TZOFFSETFROM:-0500
TZOFFSETTO:-0600
TZNAME:CST
DTSTART:20261101T070000
END:STANDARD
BEGIN:DAYLIGHT
TZOFFSETFROM:-0600
TZOFFSETTO:-0500
TZNAME:CDT
DTSTART:20270314T080000
END:DAYLIGHT
BEGIN:STANDARD
TZOFFSETFROM:-0500
TZOFFSETTO:-0600
TZNAME:CST
DTSTART:20271107T070000
END:STANDARD
END:VTIMEZONE
BEGIN:VEVENT
DTSTART;TZID=America/Chicago:20260911T123000
DTEND;TZID=America/Chicago:20260911T170000
DTSTAMP:20260423T174453
CREATED:20260124T220616Z
LAST-MODIFIED:20260124T220625Z
UID:3572-1789129800-1789146000@willmargunclub.com
SUMMARY:Gun Show Set Up
DESCRIPTION:Volunteers needed.
URL:https://willmargunclub.com/event/gun-show-set-up/
LOCATION:MN
CATEGORIES:Gun Show
ORGANIZER;CN="WRPC":MAILTO:willmarrifleandpistolclub@gmail.com
END:VEVENT
BEGIN:VEVENT
DTSTART;TZID=America/Chicago:20260912T080000
DTEND;TZID=America/Chicago:20260912T170000
DTSTAMP:20260423T174453
CREATED:20260124T220803Z
LAST-MODIFIED:20260125T040708Z
UID:3574-1789200000-1789232400@willmargunclub.com
SUMMARY:Gun Show
DESCRIPTION:
URL:https://willmargunclub.com/event/gun-show/
LOCATION:Civic Center Arena\, 2707 Arena Dr\, Willmar\, MN\, 56201\, United States
CATEGORIES:Gun Show
ORGANIZER;CN="WRPC":MAILTO:willmarrifleandpistolclub@gmail.com
END:VEVENT
BEGIN:VEVENT
DTSTART;TZID=America/Chicago:20260913T090000
DTEND;TZID=America/Chicago:20260913T150000
DTSTAMP:20260423T174453
CREATED:20260124T220900Z
LAST-MODIFIED:20260125T040742Z
UID:3576-1789290000-1789311600@willmargunclub.com
SUMMARY:Gun Show
DESCRIPTION:
URL:https://willmargunclub.com/event/gun-show-2/
LOCATION:Civic Center Arena\, 2707 Arena Dr\, Willmar\, MN\, 56201\, United States
CATEGORIES:Gun Show
ORGANIZER;CN="WRPC":MAILTO:willmarrifleandpistolclub@gmail.com
END:VEVENT
END:VCALENDAR